BEGIN:VCALENDAR
VERSION:2.0
PRODID:-//Sue-Ying Koang - ECPv6.15.20//NONSGML v1.0//EN
CALSCALE:GREGORIAN
METHOD:PUBLISH
X-WR-CALNAME:Sue-Ying Koang
X-ORIGINAL-URL:https://sueyingkoang.com/it
X-WR-CALDESC:Eventi per Sue-Ying Koang
REFRESH-INTERVAL;VALUE=DURATION:PT1H
X-Robots-Tag:noindex
X-PUBLISHED-TTL:PT1H
BEGIN:VTIMEZONE
TZID:Europe/Paris
BEGIN:DAYLIGHT
TZOFFSETFROM:+0100
TZOFFSETTO:+0200
TZNAME:CEST
DTSTART:20240331T010000
END:DAYLIGHT
BEGIN:STANDARD
TZOFFSETFROM:+0200
TZOFFSETTO:+0100
TZNAME:CET
DTSTART:20241027T010000
END:STANDARD
BEGIN:DAYLIGHT
TZOFFSETFROM:+0100
TZOFFSETTO:+0200
TZNAME:CEST
DTSTART:20250330T010000
END:DAYLIGHT
BEGIN:STANDARD
TZOFFSETFROM:+0200
TZOFFSETTO:+0100
TZNAME:CET
DTSTART:20251026T010000
END:STANDARD
BEGIN:DAYLIGHT
TZOFFSETFROM:+0100
TZOFFSETTO:+0200
TZNAME:CEST
DTSTART:20260329T010000
END:DAYLIGHT
BEGIN:STANDARD
TZOFFSETFROM:+0200
TZOFFSETTO:+0100
TZNAME:CET
DTSTART:20261025T010000
END:STANDARD
END:VTIMEZONE
BEGIN:VEVENT
DTSTART;TZID=Europe/Paris:20250725T170000
DTEND;TZID=Europe/Paris:20250725T183000
DTSTAMP:20260422T055521
CREATED:20250626T151143Z
LAST-MODIFIED:20250626T194753Z
UID:3902-1753462800-1753468200@sueyingkoang.com
SUMMARY:J.S. Bach: Sonate & partite
DESCRIPTION:
URL:https://sueyingkoang.com/it/event/bach-soli-paray-2025/
LOCATION:Basilique de Paray-le-Monial\, salle des boiseries\, Avenue Jean Paul II\, Paray-le-Monial\, 71600\, France
CATEGORIES:Stagione 2024-2025
END:VEVENT
BEGIN:VEVENT
DTSTART;TZID=Europe/Paris:20250726T180000
DTEND;TZID=Europe/Paris:20250726T193000
DTSTAMP:20260422T055521
CREATED:20250626T150201Z
LAST-MODIFIED:20250626T150201Z
UID:3898-1753552800-1753558200@sueyingkoang.com
SUMMARY:J.S. Bach: Sonate & partite
DESCRIPTION:
URL:https://sueyingkoang.com/it/event/bach-soli-saint-gengoux-2025/
LOCATION:Église de Saint-Gengoux\, Saint-Gengoux-le-National\, 71460\, France
CATEGORIES:Stagione 2024-2025
END:VEVENT
BEGIN:VEVENT
DTSTART;TZID=Europe/Paris:20250731T203000
DTEND;TZID=Europe/Paris:20250731T220000
DTSTAMP:20260422T055521
CREATED:20250521T194443Z
LAST-MODIFIED:20250626T195019Z
UID:3856-1753993800-1753999200@sueyingkoang.com
SUMMARY:Archi incrociati: J.S. Bach & J.H. Roman
DESCRIPTION:Opere per violino solo di J. S. Bach & J. H. Roman
URL:https://sueyingkoang.com/it/event/vic-le-comte-solo-2025/
LOCATION:Église Saint-Jean\, Vic-le-Comte\, 63270\, France
CATEGORIES:Stagione 2024-2025
END:VEVENT
END:VCALENDAR