BEGIN:VCALENDAR
VERSION:2.0
PRODID:-//Sue-Ying Koang - ECPv6.15.20//NONSGML v1.0//EN
CALSCALE:GREGORIAN
METHOD:PUBLISH
X-ORIGINAL-URL:https://sueyingkoang.com/it
X-WR-CALDESC:Eventi per Sue-Ying Koang
REFRESH-INTERVAL;VALUE=DURATION:PT1H
X-Robots-Tag:noindex
X-PUBLISHED-TTL:PT1H
BEGIN:VTIMEZONE
TZID:Europe/Paris
BEGIN:DAYLIGHT
TZOFFSETFROM:+0100
TZOFFSETTO:+0200
TZNAME:CEST
DTSTART:20220327T010000
END:DAYLIGHT
BEGIN:STANDARD
TZOFFSETFROM:+0200
TZOFFSETTO:+0100
TZNAME:CET
DTSTART:20221030T010000
END:STANDARD
BEGIN:DAYLIGHT
TZOFFSETFROM:+0100
TZOFFSETTO:+0200
TZNAME:CEST
DTSTART:20230326T010000
END:DAYLIGHT
BEGIN:STANDARD
TZOFFSETFROM:+0200
TZOFFSETTO:+0100
TZNAME:CET
DTSTART:20231029T010000
END:STANDARD
BEGIN:DAYLIGHT
TZOFFSETFROM:+0100
TZOFFSETTO:+0200
TZNAME:CEST
DTSTART:20240331T010000
END:DAYLIGHT
BEGIN:STANDARD
TZOFFSETFROM:+0200
TZOFFSETTO:+0100
TZNAME:CET
DTSTART:20241027T010000
END:STANDARD
END:VTIMEZONE
BEGIN:VEVENT
DTSTART;TZID=Europe/Paris:20231015T170000
DTEND;TZID=Europe/Paris:20231015T183000
DTSTAMP:20260425T004308
CREATED:20230830T131527Z
LAST-MODIFIED:20230830T131527Z
UID:3324-1697389200-1697394600@sueyingkoang.com
SUMMARY:Biagio Marini: Curiose & moderne invenzioni - Ensemble La Fenice
DESCRIPTION:Delphine Megret\, soprano; Sue-Ying Koang\, violino; Emilie Koang\, violoncello; Hadrien Jourdan\, clavicembalo & organo di tribuna; Jean Tubéry\, cornetti/flauti/direzione
URL:https://sueyingkoang.com/it/event/marini-fenice/
LOCATION:Eglise Saint-Gervais – Ginevra\, rue des Terreaux-du-Temple 12\, Ginevra\, GE\, 1201\, Svizzera
CATEGORIES:Stagione 2023-2024
END:VEVENT
END:VCALENDAR