BEGIN:VCALENDAR
VERSION:2.0
PRODID:-//Sue-Ying Koang - ECPv6.15.20//NONSGML v1.0//EN
CALSCALE:GREGORIAN
METHOD:PUBLISH
X-ORIGINAL-URL:https://sueyingkoang.com
X-WR-CALDESC:Évènements pour Sue-Ying Koang
REFRESH-INTERVAL;VALUE=DURATION:PT1H
X-Robots-Tag:noindex
X-PUBLISHED-TTL:PT1H
BEGIN:VTIMEZONE
TZID:Europe/Paris
BEGIN:DAYLIGHT
TZOFFSETFROM:+0100
TZOFFSETTO:+0200
TZNAME:CEST
DTSTART:20250330T010000
END:DAYLIGHT
BEGIN:STANDARD
TZOFFSETFROM:+0200
TZOFFSETTO:+0100
TZNAME:CET
DTSTART:20251026T010000
END:STANDARD
BEGIN:DAYLIGHT
TZOFFSETFROM:+0100
TZOFFSETTO:+0200
TZNAME:CEST
DTSTART:20260329T010000
END:DAYLIGHT
BEGIN:STANDARD
TZOFFSETFROM:+0200
TZOFFSETTO:+0100
TZNAME:CET
DTSTART:20261025T010000
END:STANDARD
BEGIN:DAYLIGHT
TZOFFSETFROM:+0100
TZOFFSETTO:+0200
TZNAME:CEST
DTSTART:20270328T010000
END:DAYLIGHT
BEGIN:STANDARD
TZOFFSETFROM:+0200
TZOFFSETTO:+0100
TZNAME:CET
DTSTART:20271031T010000
END:STANDARD
END:VTIMEZONE
BEGIN:VEVENT
DTSTART;TZID=Europe/Paris:20260308T170000
DTEND;TZID=Europe/Paris:20260308T183000
DTSTAMP:20260421T064933
CREATED:20250630T083045Z
LAST-MODIFIED:20250630T083045Z
UID:6776-1772989200-1772994600@sueyingkoang.com
SUMMARY:Musique de chambre : À la Cour de Saxe
DESCRIPTION:Œuvres de Pisendel\, Vivaldi\, Bach \nSue-Ying Koang\, violon\nVincent Bernhardt\, clavecin
URL:https://sueyingkoang.com/event/cour-de-saxe-vb-mulhouse-2026/
LOCATION:Église Sainte-Marie de Mulhouse\, 13 rue du Couvent\, Mulhouse\, 68100\, France
CATEGORIES:Saison 2025-2026
END:VEVENT
END:VCALENDAR