BEGIN:VCALENDAR
VERSION:2.0
PRODID:-//Sue-Ying Koang - ECPv6.15.20//NONSGML v1.0//EN
CALSCALE:GREGORIAN
METHOD:PUBLISH
X-ORIGINAL-URL:https://sueyingkoang.com
X-WR-CALDESC:Évènements pour Sue-Ying Koang
REFRESH-INTERVAL;VALUE=DURATION:PT1H
X-Robots-Tag:noindex
X-PUBLISHED-TTL:PT1H
BEGIN:VTIMEZONE
TZID:Europe/Paris
BEGIN:DAYLIGHT
TZOFFSETFROM:+0100
TZOFFSETTO:+0200
TZNAME:CEST
DTSTART:20250330T010000
END:DAYLIGHT
BEGIN:STANDARD
TZOFFSETFROM:+0200
TZOFFSETTO:+0100
TZNAME:CET
DTSTART:20251026T010000
END:STANDARD
BEGIN:DAYLIGHT
TZOFFSETFROM:+0100
TZOFFSETTO:+0200
TZNAME:CEST
DTSTART:20260329T010000
END:DAYLIGHT
BEGIN:STANDARD
TZOFFSETFROM:+0200
TZOFFSETTO:+0100
TZNAME:CET
DTSTART:20261025T010000
END:STANDARD
BEGIN:DAYLIGHT
TZOFFSETFROM:+0100
TZOFFSETTO:+0200
TZNAME:CEST
DTSTART:20270328T010000
END:DAYLIGHT
BEGIN:STANDARD
TZOFFSETFROM:+0200
TZOFFSETTO:+0100
TZNAME:CET
DTSTART:20271031T010000
END:STANDARD
END:VTIMEZONE
BEGIN:VEVENT
DTSTART;TZID=Europe/Paris:20260207T000000
DTEND;TZID=Europe/Paris:20260208T235959
DTSTAMP:20260421T085142
CREATED:20260420T094213Z
LAST-MODIFIED:20260420T094213Z
UID:6831-1770422400-1770595199@sueyingkoang.com
SUMMARY:Masterclass - CRR Metz
DESCRIPTION:Masterclass avec les classes de cordes\, traverso\, flûte à bec\, percussions
URL:https://sueyingkoang.com/event/masterclass-crr-metz/
LOCATION:Conservatoire à rayonnement régional de Metz Gabriel Pierné\, Metz\, 57000\, France
CATEGORIES:Saison 2025-2026
END:VEVENT
BEGIN:VEVENT
DTSTART;TZID=Europe/Paris:20260222T170000
DTEND;TZID=Europe/Paris:20260222T170000
DTSTAMP:20260421T085142
CREATED:20260112T213528Z
LAST-MODIFIED:20260112T213528Z
UID:6825-1771779600-1771779600@sueyingkoang.com
SUMMARY:J. S. Bach : Sonates pour violon seul
DESCRIPTION:
URL:https://sueyingkoang.com/event/j-s-bach-sonates-pour-violon-seul/
LOCATION:Temple des Eaux-Vives\, Place de Jargonnant 5\, Genève\, GE\, 1207\, Switzerland
CATEGORIES:Saison 2025-2026
END:VEVENT
END:VCALENDAR