BEGIN:VCALENDAR
VERSION:2.0
PRODID:-//Sue-Ying Koang - ECPv6.15.20//NONSGML v1.0//EN
CALSCALE:GREGORIAN
METHOD:PUBLISH
X-ORIGINAL-URL:https://sueyingkoang.com
X-WR-CALDESC:Évènements pour Sue-Ying Koang
REFRESH-INTERVAL;VALUE=DURATION:PT1H
X-Robots-Tag:noindex
X-PUBLISHED-TTL:PT1H
BEGIN:VTIMEZONE
TZID:Europe/Paris
BEGIN:DAYLIGHT
TZOFFSETFROM:+0100
TZOFFSETTO:+0200
TZNAME:CEST
DTSTART:20220327T010000
END:DAYLIGHT
BEGIN:STANDARD
TZOFFSETFROM:+0200
TZOFFSETTO:+0100
TZNAME:CET
DTSTART:20221030T010000
END:STANDARD
BEGIN:DAYLIGHT
TZOFFSETFROM:+0100
TZOFFSETTO:+0200
TZNAME:CEST
DTSTART:20230326T010000
END:DAYLIGHT
BEGIN:STANDARD
TZOFFSETFROM:+0200
TZOFFSETTO:+0100
TZNAME:CET
DTSTART:20231029T010000
END:STANDARD
BEGIN:DAYLIGHT
TZOFFSETFROM:+0100
TZOFFSETTO:+0200
TZNAME:CEST
DTSTART:20240331T010000
END:DAYLIGHT
BEGIN:STANDARD
TZOFFSETFROM:+0200
TZOFFSETTO:+0100
TZNAME:CET
DTSTART:20241027T010000
END:STANDARD
END:VTIMEZONE
BEGIN:VEVENT
DTSTART;TZID=Europe/Paris:20231202T180000
DTEND;TZID=Europe/Paris:20231202T200000
DTSTAMP:20260422T045952
CREATED:20231112T222900Z
LAST-MODIFIED:20241210T100341Z
UID:3635-1701540000-1701547200@sueyingkoang.com
SUMMARY:Trinacria - Sound of Sicily
DESCRIPTION:Invitée du trio Trinacria.
URL:https://sueyingkoang.com/event/trinacria-sound-of-sicily/
LOCATION:La Chaumière\, Rue du Grand Faubourg 23\, Montricher\, 1147\, Switzerland
CATEGORIES:Saison 2023-2024
END:VEVENT
BEGIN:VEVENT
DTSTART;TZID=Europe/Paris:20231203T170000
DTEND;TZID=Europe/Paris:20231203T190000
DTSTAMP:20260422T045952
CREATED:20231112T223214Z
LAST-MODIFIED:20241210T100341Z
UID:3638-1701622800-1701630000@sueyingkoang.com
SUMMARY:Trinacria - Sound of Sicily
DESCRIPTION:Invitée du trio Trinacria
URL:https://sueyingkoang.com/event/trinacria-sound-of-sicily-2/
LOCATION:Le Moulin-en-Clarens\, Route de l'Étraz 62\, En Clarens\, Vich\, 1267\, Suisse
CATEGORIES:Saison 2023-2024
END:VEVENT
BEGIN:VEVENT
DTSTART;TZID=Europe/Paris:20231207T150000
DTEND;TZID=Europe/Paris:20231207T170000
DTSTAMP:20260422T045952
CREATED:20231112T223345Z
LAST-MODIFIED:20241210T100341Z
UID:3641-1701961200-1701968400@sueyingkoang.com
SUMMARY:Trinacria - Sound of Sicily - concert privé
DESCRIPTION:Invitée du trio Trinacria
URL:https://sueyingkoang.com/event/trinacria-sound-of-sicily-concert-prive/
LOCATION:Résidence de la Gradelle\, Chêne-Bougeries\, 1224
CATEGORIES:Saison 2023-2024
END:VEVENT
BEGIN:VEVENT
DTSTART;TZID=Europe/Paris:20231208T080000
DTEND;TZID=Europe/Paris:20231208T170000
DTSTAMP:20260422T045952
CREATED:20231112T223712Z
LAST-MODIFIED:20241210T100340Z
UID:3643-1702022400-1702054800@sueyingkoang.com
SUMMARY:Trinacria - Sound of Sicily
DESCRIPTION:Invitée du trio Trinacria – Bal Folk
URL:https://sueyingkoang.com/event/trinacria-sound-of-sicily-3/
LOCATION:Chez Fred\, Chemin des Etaillies 52\, Cartigny\, 1236\, Suisse
CATEGORIES:Saison 2023-2024
END:VEVENT
BEGIN:VEVENT
DTSTART;TZID=Europe/Paris:20231209T200000
DTEND;TZID=Europe/Paris:20231209T220000
DTSTAMP:20260422T045952
CREATED:20231112T224328Z
LAST-MODIFIED:20241210T100340Z
UID:3649-1702152000-1702159200@sueyingkoang.com
SUMMARY:Trinacria - Sound of Sicily
DESCRIPTION:Invitée du trio Trinacria
URL:https://sueyingkoang.com/event/trinacria-sound-of-sicily-4/
LOCATION:Le Café Littéraire\, Quai Perdonnet 33\, Vevey\, 1800\, Suisse
CATEGORIES:Saison 2023-2024
END:VEVENT
END:VCALENDAR