BEGIN:VCALENDAR
VERSION:2.0
PRODID:-//Sue-Ying Koang - ECPv6.15.20//NONSGML v1.0//EN
CALSCALE:GREGORIAN
METHOD:PUBLISH
X-ORIGINAL-URL:https://sueyingkoang.com
X-WR-CALDESC:Évènements pour Sue-Ying Koang
REFRESH-INTERVAL;VALUE=DURATION:PT1H
X-Robots-Tag:noindex
X-PUBLISHED-TTL:PT1H
BEGIN:VTIMEZONE
TZID:Europe/Paris
BEGIN:DAYLIGHT
TZOFFSETFROM:+0100
TZOFFSETTO:+0200
TZNAME:CEST
DTSTART:20230326T010000
END:DAYLIGHT
BEGIN:STANDARD
TZOFFSETFROM:+0200
TZOFFSETTO:+0100
TZNAME:CET
DTSTART:20231029T010000
END:STANDARD
BEGIN:DAYLIGHT
TZOFFSETFROM:+0100
TZOFFSETTO:+0200
TZNAME:CEST
DTSTART:20240331T010000
END:DAYLIGHT
BEGIN:STANDARD
TZOFFSETFROM:+0200
TZOFFSETTO:+0100
TZNAME:CET
DTSTART:20241027T010000
END:STANDARD
BEGIN:DAYLIGHT
TZOFFSETFROM:+0100
TZOFFSETTO:+0200
TZNAME:CEST
DTSTART:20250330T010000
END:DAYLIGHT
BEGIN:STANDARD
TZOFFSETFROM:+0200
TZOFFSETTO:+0100
TZNAME:CET
DTSTART:20251026T010000
END:STANDARD
END:VTIMEZONE
BEGIN:VEVENT
DTSTART;TZID=Europe/Paris:20240712T200000
DTEND;TZID=Europe/Paris:20240712T220000
DTSTAMP:20260425T030946
CREATED:20240509T101654Z
LAST-MODIFIED:20241210T100339Z
UID:6282-1720814400-1720821600@sueyingkoang.com
SUMMARY:Fauré : Requiem - Chœur de Chambre de Namur
DESCRIPTION:Direction : Thibault Lenaerts\nSoprano solo : Caroline Weynants\nViolon solo : Sue-Ying Koang
URL:https://sueyingkoang.com/event/faure-requiem-01/
LOCATION:Namur Concert Hall\, Rue Rogier 82\, Namur\, 5000\, Belgique
CATEGORIES:Saison 2023-2024
END:VEVENT
END:VCALENDAR