BEGIN:VCALENDAR
VERSION:2.0
PRODID:-//Sue-Ying Koang - ECPv6.15.20//NONSGML v1.0//EN
CALSCALE:GREGORIAN
METHOD:PUBLISH
X-ORIGINAL-URL:https://sueyingkoang.com
X-WR-CALDESC:Évènements pour Sue-Ying Koang
REFRESH-INTERVAL;VALUE=DURATION:PT1H
X-Robots-Tag:noindex
X-PUBLISHED-TTL:PT1H
BEGIN:VTIMEZONE
TZID:Europe/Paris
BEGIN:DAYLIGHT
TZOFFSETFROM:+0100
TZOFFSETTO:+0200
TZNAME:CEST
DTSTART:20230326T010000
END:DAYLIGHT
BEGIN:STANDARD
TZOFFSETFROM:+0200
TZOFFSETTO:+0100
TZNAME:CET
DTSTART:20231029T010000
END:STANDARD
BEGIN:DAYLIGHT
TZOFFSETFROM:+0100
TZOFFSETTO:+0200
TZNAME:CEST
DTSTART:20240331T010000
END:DAYLIGHT
BEGIN:STANDARD
TZOFFSETFROM:+0200
TZOFFSETTO:+0100
TZNAME:CET
DTSTART:20241027T010000
END:STANDARD
BEGIN:DAYLIGHT
TZOFFSETFROM:+0100
TZOFFSETTO:+0200
TZNAME:CEST
DTSTART:20250330T010000
END:DAYLIGHT
BEGIN:STANDARD
TZOFFSETFROM:+0200
TZOFFSETTO:+0100
TZNAME:CET
DTSTART:20251026T010000
END:STANDARD
END:VTIMEZONE
BEGIN:VEVENT
DTSTART;TZID=Europe/Paris:20240516T200000
DTEND;TZID=Europe/Paris:20240516T210000
DTSTAMP:20260425T130028
CREATED:20240314T191633Z
LAST-MODIFIED:20241210T100340Z
UID:6230-1715889600-1715893200@sueyingkoang.com
SUMMARY:La Chapelle Saint-Marc - Saint Salvator's Chapel Choir
DESCRIPTION:Vivaldi\, Durante\, Bach\nVincent Bernhardt\, direction
URL:https://sueyingkoang.com/event/la-chapelle-saint-marc-saint-salvators-chapel-choir/
LOCATION:Temple Neuf\, Place de la Comédie\, Metz\, 57000\, France
CATEGORIES:Saison 2023-2024
END:VEVENT
END:VCALENDAR