BEGIN:VCALENDAR
VERSION:2.0
PRODID:-//Sue-Ying Koang - ECPv6.15.20//NONSGML v1.0//EN
CALSCALE:GREGORIAN
METHOD:PUBLISH
X-ORIGINAL-URL:https://sueyingkoang.com
X-WR-CALDESC:Évènements pour Sue-Ying Koang
REFRESH-INTERVAL;VALUE=DURATION:PT1H
X-Robots-Tag:noindex
X-PUBLISHED-TTL:PT1H
BEGIN:VTIMEZONE
TZID:Europe/Paris
BEGIN:DAYLIGHT
TZOFFSETFROM:+0100
TZOFFSETTO:+0200
TZNAME:CEST
DTSTART:20230326T010000
END:DAYLIGHT
BEGIN:STANDARD
TZOFFSETFROM:+0200
TZOFFSETTO:+0100
TZNAME:CET
DTSTART:20231029T010000
END:STANDARD
BEGIN:DAYLIGHT
TZOFFSETFROM:+0100
TZOFFSETTO:+0200
TZNAME:CEST
DTSTART:20240331T010000
END:DAYLIGHT
BEGIN:STANDARD
TZOFFSETFROM:+0200
TZOFFSETTO:+0100
TZNAME:CET
DTSTART:20241027T010000
END:STANDARD
BEGIN:DAYLIGHT
TZOFFSETFROM:+0100
TZOFFSETTO:+0200
TZNAME:CEST
DTSTART:20250330T010000
END:DAYLIGHT
BEGIN:STANDARD
TZOFFSETFROM:+0200
TZOFFSETTO:+0100
TZNAME:CET
DTSTART:20251026T010000
END:STANDARD
END:VTIMEZONE
BEGIN:VEVENT
DTSTART;TZID=Europe/Paris:20240602T170000
DTEND;TZID=Europe/Paris:20240602T183000
DTSTAMP:20260426T062405
CREATED:20240314T190205Z
LAST-MODIFIED:20241210T100340Z
UID:6228-1717347600-1717353000@sueyingkoang.com
SUMMARY:Concerts-Causeries de Chailly : Les quatre saisons
DESCRIPTION:A. Vivaldi : Les Quatre Saisons \nSue-Ying Koang\, violon solo\nVincent Bernhardt\, clavecin & direction\nLa Chapelle Saint-Marc \nBilletterie
URL:https://sueyingkoang.com/event/ccc24-03/
LOCATION:Temple de Chailly\, Avenue du Temple 11\, Lausanne\, VD\, 1012\, Suisse
CATEGORIES:Saison 2023-2024
END:VEVENT
BEGIN:VEVENT
DTSTART;TZID=Europe/Paris:20240609T190000
DTEND;TZID=Europe/Paris:20240609T210000
DTSTAMP:20260426T062405
CREATED:20240606T110857Z
LAST-MODIFIED:20241210T100340Z
UID:6335-1717959600-1717966800@sueyingkoang.com
SUMMARY:Pino di Vittorio\, Debora Troía\, Arianna Art Ensemble - La Chimera
DESCRIPTION:
URL:https://sueyingkoang.com/event/pino-di-vittorio-debora-troia-arianna-art-ensemble-la-chimera/
LOCATION:Oratorio di Santa Cita\, Via Valverde 3\, Palermo\, 90133\, Italie
CATEGORIES:Saison 2023-2024
END:VEVENT
BEGIN:VEVENT
DTSTART;TZID=Europe/Paris:20240622T160000
DTEND;TZID=Europe/Paris:20240622T180000
DTSTAMP:20260426T062405
CREATED:20240606T112329Z
LAST-MODIFIED:20241210T100339Z
UID:6339-1719072000-1719079200@sueyingkoang.com
SUMMARY:Les Divins Caprices - Chiome d'Oro
DESCRIPTION:Extraits d’opéras de Monteverdi
URL:https://sueyingkoang.com/event/les-divins-caprices-chiome-doro-4/
LOCATION:Musée d’Art et d’Histoire de Genève\, Rue Charles-Galland 2\, Genève\, 1206\, Suisse
CATEGORIES:Saison 2023-2024
END:VEVENT
BEGIN:VEVENT
DTSTART;TZID=Europe/Paris:20240630T170000
DTEND;TZID=Europe/Paris:20240630T190000
DTSTAMP:20260426T062405
CREATED:20240509T165702Z
LAST-MODIFIED:20241210T100339Z
UID:6296-1719766800-1719774000@sueyingkoang.com
SUMMARY:Vivaldi : Les quatre saisons
DESCRIPTION:Sue-Ying Koang\, violon solo\nVincent Bernhardt\, clavecin & direction\nLa Chapelle Saint-Marc
URL:https://sueyingkoang.com/event/4-saisons-2024-03/
LOCATION:Église de Saint-Quirin\, Saint-Quirin\, 57560\, France
CATEGORIES:Saison 2023-2024
END:VEVENT
END:VCALENDAR