BEGIN:VCALENDAR
VERSION:2.0
PRODID:-//Sue-Ying Koang - ECPv6.15.20//NONSGML v1.0//EN
CALSCALE:GREGORIAN
METHOD:PUBLISH
X-WR-CALNAME:Sue-Ying Koang
X-ORIGINAL-URL:https://sueyingkoang.com
X-WR-CALDESC:Évènements pour Sue-Ying Koang
REFRESH-INTERVAL;VALUE=DURATION:PT1H
X-Robots-Tag:noindex
X-PUBLISHED-TTL:PT1H
BEGIN:VTIMEZONE
TZID:Europe/Paris
BEGIN:DAYLIGHT
TZOFFSETFROM:+0100
TZOFFSETTO:+0200
TZNAME:CEST
DTSTART:20200329T010000
END:DAYLIGHT
BEGIN:STANDARD
TZOFFSETFROM:+0200
TZOFFSETTO:+0100
TZNAME:CET
DTSTART:20201025T010000
END:STANDARD
BEGIN:DAYLIGHT
TZOFFSETFROM:+0100
TZOFFSETTO:+0200
TZNAME:CEST
DTSTART:20210328T010000
END:DAYLIGHT
BEGIN:STANDARD
TZOFFSETFROM:+0200
TZOFFSETTO:+0100
TZNAME:CET
DTSTART:20211031T010000
END:STANDARD
BEGIN:DAYLIGHT
TZOFFSETFROM:+0100
TZOFFSETTO:+0200
TZNAME:CEST
DTSTART:20220327T010000
END:DAYLIGHT
BEGIN:STANDARD
TZOFFSETFROM:+0200
TZOFFSETTO:+0100
TZNAME:CET
DTSTART:20221030T010000
END:STANDARD
END:VTIMEZONE
BEGIN:VEVENT
DTSTART;TZID=Europe/Paris:20210904T200000
DTEND;TZID=Europe/Paris:20210904T200000
DTSTAMP:20260423T075727
CREATED:20230317T235809Z
LAST-MODIFIED:20241210T100346Z
UID:2481-1630785600-1630785600@sueyingkoang.com
SUMMARY:Zum Wohl\, JS Bach ! La Fenice
DESCRIPTION:
URL:https://sueyingkoang.com/event/zum-wohl-js-bach-la-fenice/
LOCATION:Abbaye de Gellone\, Place de la Liberté\, Saint-Guilhem-le-Désert\, 34150\, France
CATEGORIES:Saison 2021-2022
END:VEVENT
BEGIN:VEVENT
DTSTART;TZID=Europe/Paris:20210902T183000
DTEND;TZID=Europe/Paris:20210902T183000
DTSTAMP:20260423T075727
CREATED:20230317T235309Z
LAST-MODIFIED:20241210T100346Z
UID:2478-1630607400-1630607400@sueyingkoang.com
SUMMARY:Quatuor Terpsycordes & Sue-Ying Koang
DESCRIPTION:
URL:https://sueyingkoang.com/event/quatuor-terpsycordes-sue-ying-koang/
LOCATION:Palais de l’Athénée\, Rue de l'Athénée 2\, Genève\, 1205\, Suisse
CATEGORIES:Saison 2021-2022
END:VEVENT
BEGIN:VEVENT
DTSTART;TZID=Europe/Paris:20210825T200000
DTEND;TZID=Europe/Paris:20210825T200000
DTSTAMP:20260423T075727
CREATED:20230317T235055Z
LAST-MODIFIED:20241210T100346Z
UID:2475-1629921600-1629921600@sueyingkoang.com
SUMMARY:Misteri Gloriosi - La Fenice
DESCRIPTION:
URL:https://sueyingkoang.com/event/misteri-gloriosi-la-fenice/
LOCATION:Église Saint-Julien – Château-l’Évêque\, Rue du Château\, Château-l'Évêque\, 24460\, France
CATEGORIES:Saison 2021-2022
END:VEVENT
BEGIN:VEVENT
DTSTART;TZID=Europe/Paris:20210813T213000
DTEND;TZID=Europe/Paris:20210813T230000
DTSTAMP:20260423T075727
CREATED:20230317T233427Z
LAST-MODIFIED:20241210T100346Z
UID:2458-1628890200-1628895600@sueyingkoang.com
SUMMARY:Mediterráneo - Cappella Mediterranea
DESCRIPTION:
URL:https://sueyingkoang.com/event/mediterraneo-cappella-mediterranea-3/
LOCATION:Palais de l’Europe – Menton\, 8\, avenue Boyer\, Menton\, 06506\, France
CATEGORIES:Saison 2021-2022
END:VEVENT
BEGIN:VEVENT
DTSTART;TZID=Europe/Paris:20210806T190000
DTEND;TZID=Europe/Paris:20210806T190000
DTSTAMP:20260423T075727
CREATED:20230324T144744Z
LAST-MODIFIED:20241210T100346Z
UID:2853-1628276400-1628276400@sueyingkoang.com
SUMMARY:Le violon & la voix
DESCRIPTION:
URL:https://sueyingkoang.com/event/le-violon-la-voix/
LOCATION:Église Saint-Denis – Tourtour\, Tourtour\, 83690\, France
CATEGORIES:Saison 2021-2022
END:VEVENT
BEGIN:VEVENT
DTSTART;TZID=Europe/Paris:20210801T000000
DTEND;TZID=Europe/Paris:20210801T235959
DTSTAMP:20260423T075727
CREATED:20230325T092836Z
LAST-MODIFIED:20241210T100346Z
UID:2914-1627776000-1627862399@sueyingkoang.com
SUMMARY:Préludes - Les Arts Florissants
DESCRIPTION:
URL:https://sueyingkoang.com/event/preludes-les-arts-florissants-2/
LOCATION:Jardins de William Christie\, 32 Rue du Bâtiment\, Thiré\, 85210\, France
CATEGORIES:Saison 2021-2022
END:VEVENT
END:VCALENDAR