BEGIN:VCALENDAR
VERSION:2.0
PRODID:-//Sue-Ying Koang - ECPv6.15.20//NONSGML v1.0//EN
CALSCALE:GREGORIAN
METHOD:PUBLISH
X-ORIGINAL-URL:https://sueyingkoang.com
X-WR-CALDESC:Évènements pour Sue-Ying Koang
REFRESH-INTERVAL;VALUE=DURATION:PT1H
X-Robots-Tag:noindex
X-PUBLISHED-TTL:PT1H
BEGIN:VTIMEZONE
TZID:Europe/Paris
BEGIN:DAYLIGHT
TZOFFSETFROM:+0100
TZOFFSETTO:+0200
TZNAME:CEST
DTSTART:20200329T010000
END:DAYLIGHT
BEGIN:STANDARD
TZOFFSETFROM:+0200
TZOFFSETTO:+0100
TZNAME:CET
DTSTART:20201025T010000
END:STANDARD
BEGIN:DAYLIGHT
TZOFFSETFROM:+0100
TZOFFSETTO:+0200
TZNAME:CEST
DTSTART:20210328T010000
END:DAYLIGHT
BEGIN:STANDARD
TZOFFSETFROM:+0200
TZOFFSETTO:+0100
TZNAME:CET
DTSTART:20211031T010000
END:STANDARD
BEGIN:DAYLIGHT
TZOFFSETFROM:+0100
TZOFFSETTO:+0200
TZNAME:CEST
DTSTART:20220327T010000
END:DAYLIGHT
BEGIN:STANDARD
TZOFFSETFROM:+0200
TZOFFSETTO:+0100
TZNAME:CET
DTSTART:20221030T010000
END:STANDARD
BEGIN:DAYLIGHT
TZOFFSETFROM:+0100
TZOFFSETTO:+0200
TZNAME:CEST
DTSTART:20230326T010000
END:DAYLIGHT
BEGIN:STANDARD
TZOFFSETFROM:+0200
TZOFFSETTO:+0100
TZNAME:CET
DTSTART:20231029T010000
END:STANDARD
END:VTIMEZONE
BEGIN:VTIMEZONE
TZID:Europe/Zurich
BEGIN:DAYLIGHT
TZOFFSETFROM:+0100
TZOFFSETTO:+0200
TZNAME:CEST
DTSTART:20200329T010000
END:DAYLIGHT
BEGIN:STANDARD
TZOFFSETFROM:+0200
TZOFFSETTO:+0100
TZNAME:CET
DTSTART:20201025T010000
END:STANDARD
BEGIN:DAYLIGHT
TZOFFSETFROM:+0100
TZOFFSETTO:+0200
TZNAME:CEST
DTSTART:20210328T010000
END:DAYLIGHT
BEGIN:STANDARD
TZOFFSETFROM:+0200
TZOFFSETTO:+0100
TZNAME:CET
DTSTART:20211031T010000
END:STANDARD
BEGIN:DAYLIGHT
TZOFFSETFROM:+0100
TZOFFSETTO:+0200
TZNAME:CEST
DTSTART:20220327T010000
END:DAYLIGHT
BEGIN:STANDARD
TZOFFSETFROM:+0200
TZOFFSETTO:+0100
TZNAME:CET
DTSTART:20221030T010000
END:STANDARD
END:VTIMEZONE
BEGIN:VEVENT
DTSTART;TZID=Europe/Paris:20220415T170000
DTEND;TZID=Europe/Paris:20220415T170000
DTSTAMP:20260421T144935
CREATED:20230318T093659Z
LAST-MODIFIED:20241210T100345Z
UID:2536-1650042000-1650042000@sueyingkoang.com
SUMMARY:Bach : Passion selon Saint-Jean
DESCRIPTION:
URL:https://sueyingkoang.com/event/bach-passion-selon-saint-jean-2/
LOCATION:Église Saint-Martin – Vevey\, Boulevard de Saint-Martin 33\, Vevey\, 1033\, Suisse
CATEGORIES:Saison 2021-2022
END:VEVENT
BEGIN:VEVENT
DTSTART;TZID=Europe/Paris:20220410T170000
DTEND;TZID=Europe/Paris:20220410T170000
DTSTAMP:20260421T144935
CREATED:20230318T093525Z
LAST-MODIFIED:20241210T100345Z
UID:2534-1649610000-1649610000@sueyingkoang.com
SUMMARY:Bach : Passion selon Saint-Jean
DESCRIPTION:
URL:https://sueyingkoang.com/event/bach-passion-selon-saint-jean/
LOCATION:Église de Compesières\, Route de Cugny 99\, Croix-de-Rozon\, 1257\, Suisse
CATEGORIES:Saison 2021-2022
END:VEVENT
BEGIN:VEVENT
DTSTART;TZID=Europe/Paris:20220405T200000
DTEND;TZID=Europe/Paris:20220405T200000
DTSTAMP:20260421T144935
CREATED:20230318T093426Z
LAST-MODIFIED:20241210T100345Z
UID:2532-1649188800-1649188800@sueyingkoang.com
SUMMARY:Bach : Passion selon Saint-Matthieu - Cappella Mediterranea
DESCRIPTION:
URL:https://sueyingkoang.com/event/bach-passion-selon-saint-matthieu-3/
LOCATION:Opéra de Dijon\, Place Jean Bouhey\, Dijon\, 21000\, France
CATEGORIES:Saison 2021-2022
END:VEVENT
BEGIN:VEVENT
DTSTART;TZID=Europe/Paris:20220330T200000
DTEND;TZID=Europe/Paris:20220330T200000
DTSTAMP:20260421T144935
CREATED:20230318T093321Z
LAST-MODIFIED:20241210T100345Z
UID:2530-1648670400-1648670400@sueyingkoang.com
SUMMARY:Bach : Passion selon Saint-Matthieu - Cappella Mediterranea
DESCRIPTION:
URL:https://sueyingkoang.com/event/bach-passion-selon-saint-matthieu-2/
LOCATION:La Seine Musicale\, Île Seguin\, Boulogne-Billancourt\, 92100\, France
CATEGORIES:Saison 2021-2022
END:VEVENT
BEGIN:VEVENT
DTSTART;TZID=Europe/Paris:20220318T170000
DTEND;TZID=Europe/Paris:20220318T170000
DTSTAMP:20260421T144935
CREATED:20230323T110944Z
LAST-MODIFIED:20241210T100345Z
UID:2674-1647622800-1647622800@sueyingkoang.com
SUMMARY:Rêveries - Cappella Mediterranea
DESCRIPTION:
URL:https://sueyingkoang.com/event/reveries-cappella-mediterranea/
LOCATION:Théâtre de Carouge\, Rue Ancienne 37 A\, Carouge\, 1227\, Suisse
CATEGORIES:Saison 2021-2022
END:VEVENT
BEGIN:VEVENT
DTSTART;TZID=Europe/Paris:20220313T080000
DTEND;TZID=Europe/Paris:20220313T170000
DTSTAMP:20260421T144935
CREATED:20230323T110457Z
LAST-MODIFIED:20241210T100345Z
UID:2671-1647158400-1647190800@sueyingkoang.com
SUMMARY:Haydn : Les Saisons - Ensemble Baroque du Léman
DESCRIPTION:
URL:https://sueyingkoang.com/event/haydn-les-saisons-ensemble-baroque-du-leman-2/
LOCATION:Temple de Coppet\, Grand' Rue 42\, Coppet\, 1296\, Suisse
CATEGORIES:Saison 2021-2022
END:VEVENT
BEGIN:VEVENT
DTSTART;TZID=Europe/Paris:20220311T200000
DTEND;TZID=Europe/Paris:20220311T200000
DTSTAMP:20260421T144935
CREATED:20230323T110308Z
LAST-MODIFIED:20241210T100345Z
UID:2669-1647028800-1647028800@sueyingkoang.com
SUMMARY:Haydn : Les Saisons - Ensemble Baroque du Léman
DESCRIPTION:
URL:https://sueyingkoang.com/event/haydn-les-saisons-ensemble-baroque-du-leman/
LOCATION:Victoria Hall\, Rue du Général-Dufour 14\, Genève\, 1204\, Suisse
CATEGORIES:Saison 2021-2022
END:VEVENT
BEGIN:VEVENT
DTSTART;TZID=Europe/Paris:20220306T170000
DTEND;TZID=Europe/Paris:20220306T170000
DTSTAMP:20260421T144935
CREATED:20230323T110054Z
LAST-MODIFIED:20241210T100345Z
UID:2667-1646586000-1646586000@sueyingkoang.com
SUMMARY:Vivaldi : Gloria\, Magnificat & Stabat Mater
DESCRIPTION:
URL:https://sueyingkoang.com/event/vivaldi-gloria-magnificat-stabat-mater-2/
LOCATION:Église Saint-Martin – Vevey\, Boulevard de Saint-Martin 33\, Vevey\, 1033\, Suisse
CATEGORIES:Saison 2021-2022
END:VEVENT
BEGIN:VEVENT
DTSTART;TZID=Europe/Paris:20220304T203000
DTEND;TZID=Europe/Paris:20220304T203000
DTSTAMP:20260421T144935
CREATED:20230323T105947Z
LAST-MODIFIED:20241210T100345Z
UID:2665-1646425800-1646425800@sueyingkoang.com
SUMMARY:Vivaldi : Gloria\, Magnificat & Stabat Mater
DESCRIPTION:
URL:https://sueyingkoang.com/event/vivaldi-gloria-magnificat-stabat-mater/
LOCATION:Église Saint-François de Lausanne\, Place Saint-François\, Lausanne\, 1003\, France
CATEGORIES:Saison 2021-2022
END:VEVENT
BEGIN:VEVENT
DTSTART;TZID=Europe/Paris:20220227T170000
DTEND;TZID=Europe/Paris:20220227T170000
DTSTAMP:20260421T144935
CREATED:20230318T094240Z
LAST-MODIFIED:20241210T100345Z
UID:2543-1645981200-1645981200@sueyingkoang.com
SUMMARY:La Chapelle Saint-Marc
DESCRIPTION:
URL:https://sueyingkoang.com/event/la-chapelle-saint-marc/
LOCATION:Église Saint-Lambert – Eppeldorf\, 6 Gaich\, Eppeldorf\, 9365\, Luxembourg
CATEGORIES:Saison 2021-2022
END:VEVENT
BEGIN:VEVENT
DTSTART;TZID=Europe/Paris:20220226T200000
DTEND;TZID=Europe/Paris:20220226T200000
DTSTAMP:20260421T144935
CREATED:20230323T105622Z
LAST-MODIFIED:20241210T100345Z
UID:2660-1645905600-1645905600@sueyingkoang.com
SUMMARY:La Chapelle Saint-Marc
DESCRIPTION:
URL:https://sueyingkoang.com/event/la-chapelle-saint-marc-2/
LOCATION:Atelier d’Alain Meyer\, 69 Grand rue\, Lorry-lès-Metz\, 57050\, France
CATEGORIES:Saison 2021-2022
END:VEVENT
BEGIN:VEVENT
DTSTART;TZID=Europe/Paris:20220122T200000
DTEND;TZID=Europe/Paris:20220122T200000
DTSTAMP:20260421T144936
CREATED:20230318T094032Z
LAST-MODIFIED:20241210T100345Z
UID:2539-1642881600-1642881600@sueyingkoang.com
SUMMARY:Cristal Bello - La Guirlande
DESCRIPTION:
URL:https://sueyingkoang.com/event/cristal-bello-la-guirlande/
LOCATION:Teatro Circo\, Calle Isaac de Peral\, Albacete\, 02001\, Espagne
CATEGORIES:Saison 2021-2022
END:VEVENT
BEGIN:VEVENT
DTSTART;TZID=Europe/Paris:20220110T200000
DTEND;TZID=Europe/Paris:20220110T200000
DTSTAMP:20260421T144936
CREATED:20230323T105217Z
LAST-MODIFIED:20241210T100345Z
UID:2657-1641844800-1641844800@sueyingkoang.com
SUMMARY:Célébration française - La Chapelle Saint-Marc
DESCRIPTION:
URL:https://sueyingkoang.com/event/celebration-francaise-la-chapelle-saint-marc/
LOCATION:Philharmonie Luxembourg\, Place de l'Europe 1\, Luxembourg\, 1499\, Luxembourg
CATEGORIES:Saison 2021-2022
END:VEVENT
BEGIN:VEVENT
DTSTART;TZID=Europe/Paris:20211219T170000
DTEND;TZID=Europe/Paris:20211219T170000
DTSTAMP:20260421T144936
CREATED:20230318T230749Z
LAST-MODIFIED:20241210T100345Z
UID:2613-1639933200-1639933200@sueyingkoang.com
SUMMARY:Una Rosa per Natale - Trio Trinacria
DESCRIPTION:
URL:https://sueyingkoang.com/event/una-rosa-per-natale-trio-trinacria/
LOCATION:Le Moulin-en-Clarens\, Route de l'Étraz 62\, En Clarens\, Vich\, 1267\, Suisse
CATEGORIES:Saison 2021-2022
END:VEVENT
BEGIN:VEVENT
DTSTART;TZID=Europe/Paris:20211215T080000
DTEND;TZID=Europe/Paris:20211215T170000
DTSTAMP:20260421T144936
CREATED:20230323T104955Z
LAST-MODIFIED:20241210T100345Z
UID:2654-1639555200-1639587600@sueyingkoang.com
SUMMARY:Rebirth - Sonya Yoncheva - ANNULÉ
DESCRIPTION:
URL:https://sueyingkoang.com/event/rebirth-sonya-yoncheva-4/
LOCATION:Bozar Bruxelles\, Rue Ravenstein 23\, Bruxelles\, 1000\, Belgique
CATEGORIES:Saison 2021-2022
END:VEVENT
BEGIN:VEVENT
DTSTART;TZID=Europe/Paris:20211205T170000
DTEND;TZID=Europe/Paris:20211205T170000
DTSTAMP:20260421T144936
CREATED:20230318T000047Z
LAST-MODIFIED:20241210T100345Z
UID:2485-1638723600-1638723600@sueyingkoang.com
SUMMARY:Mozart : Sonates et trios
DESCRIPTION:
URL:https://sueyingkoang.com/event/mozart-sonates-et-trios/
LOCATION:Le Moulin-en-Clarens\, Route de l'Étraz 62\, En Clarens\, Vich\, 1267\, Suisse
CATEGORIES:Saison 2021-2022
END:VEVENT
BEGIN:VEVENT
DTSTART;TZID=Europe/Paris:20211125T190000
DTEND;TZID=Europe/Paris:20211125T190000
DTSTAMP:20260421T144936
CREATED:20230318T231034Z
LAST-MODIFIED:20241210T100345Z
UID:2616-1637866800-1637866800@sueyingkoang.com
SUMMARY:Terpsycordes au Musée d'Art & d'Histoire de Genève
DESCRIPTION:
URL:https://sueyingkoang.com/event/terpsycordes-mah/
LOCATION:Musée d’Art et d’Histoire de Genève\, Rue Charles-Galland 2\, Genève\, 1206\, Suisse
CATEGORIES:Saison 2021-2022
END:VEVENT
BEGIN:VEVENT
DTSTART;TZID=Europe/Paris:20211118T200000
DTEND;TZID=Europe/Paris:20211118T200000
DTSTAMP:20260421T144936
CREATED:20230317T233834Z
LAST-MODIFIED:20241210T100346Z
UID:2462-1637265600-1637265600@sueyingkoang.com
SUMMARY:Rebirth - Sonya Yoncheva
DESCRIPTION:
URL:https://sueyingkoang.com/event/rebirth-sonya-yoncheva/
LOCATION:Teatro alla Scala\, Via Filodrammatici 2\, Milano\, 20121\, Italie
CATEGORIES:Saison 2021-2022
END:VEVENT
BEGIN:VEVENT
DTSTART;TZID=Europe/Paris:20211115T200000
DTEND;TZID=Europe/Paris:20211115T210000
DTSTAMP:20260421T144936
CREATED:20230317T234431Z
LAST-MODIFIED:20241210T100346Z
UID:2468-1637006400-1637010000@sueyingkoang.com
SUMMARY:Rebirth - Sonya Yoncheva
DESCRIPTION:
URL:https://sueyingkoang.com/event/rebirth-sonya-yoncheva-2/
LOCATION:Palau de la Música\, Calle Palau de la Música\, 4-6\, Barcelona\, 08003\, Espagne
CATEGORIES:Saison 2021-2022
END:VEVENT
BEGIN:VEVENT
DTSTART;TZID=Europe/Zurich:20211114T170000
DTEND;TZID=Europe/Zurich:20211114T190000
DTSTAMP:20260421T144936
CREATED:20221113T052929Z
LAST-MODIFIED:20241210T100346Z
UID:1388-1636909200-1636916400@sueyingkoang.com
SUMMARY:Monteverdi : Vêpres de la Vierge - La Fenice
DESCRIPTION:Ensemble La Fenice\, direction : Jean Tubéry \n 
URL:https://sueyingkoang.com/event/vespro-fenice/
LOCATION:Église Saint-François de Lausanne\, Place Saint-François\, Lausanne\, 1003\, France
CATEGORIES:Saison 2021-2022
END:VEVENT
BEGIN:VEVENT
DTSTART;TZID=Europe/Paris:20211107T170000
DTEND;TZID=Europe/Paris:20211107T190000
DTSTAMP:20260421T144936
CREATED:20230307T124544Z
LAST-MODIFIED:20241210T100346Z
UID:1973-1636304400-1636311600@sueyingkoang.com
SUMMARY:Monteverdi : Vêpres de la Vierge - La Fenice
DESCRIPTION:  \n 
URL:https://sueyingkoang.com/event/vespro-fenice-2/
LOCATION:Église Saint-Laurent de Lorentzweiler (L)\, Rue Saint-Laurent\, Lorentzweiler\, 7375\, Luxembourg
CATEGORIES:Saison 2021-2022
END:VEVENT
BEGIN:VEVENT
DTSTART;TZID=Europe/Paris:20211101T200000
DTEND;TZID=Europe/Paris:20211101T200000
DTSTAMP:20260421T144936
CREATED:20230317T234611Z
LAST-MODIFIED:20241210T100346Z
UID:2472-1635796800-1635796800@sueyingkoang.com
SUMMARY:Rebirth - Sonya Yoncheva
DESCRIPTION:
URL:https://sueyingkoang.com/event/rebirth-sonya-yoncheva-3/
LOCATION:Victoria Hall\, Rue du Général-Dufour 14\, Genève\, 1204\, Suisse
CATEGORIES:Saison 2021-2022
END:VEVENT
BEGIN:VEVENT
DTSTART;TZID=Europe/Paris:20211031T170000
DTEND;TZID=Europe/Paris:20211031T170000
DTSTAMP:20260421T144936
CREATED:20230318T000315Z
LAST-MODIFIED:20241210T100346Z
UID:2487-1635699600-1635699600@sueyingkoang.com
SUMMARY:Canzoni d'autore avec Salvatore Meccio
DESCRIPTION:
URL:https://sueyingkoang.com/event/canzoni-dautore-avec-salvatore-meccio/
LOCATION:Le Moulin-en-Clarens\, Route de l'Étraz 62\, En Clarens\, Vich\, 1267\, Suisse
CATEGORIES:Saison 2021-2022
END:VEVENT
BEGIN:VEVENT
DTSTART;TZID=Europe/Paris:20211030T210000
DTEND;TZID=Europe/Paris:20211030T230000
DTSTAMP:20260421T144936
CREATED:20230315T133624Z
LAST-MODIFIED:20241210T100346Z
UID:2236-1635627600-1635634800@sueyingkoang.com
SUMMARY:Ensemble Bonne Corde : concertos de Pereira da Costa
DESCRIPTION:
URL:https://sueyingkoang.com/event/ensemble-bonne-corde-concertos-de-pereira-da-costa/
LOCATION:Igreja São Roque – Lisboa\, Largo Trindade Coelho\, Lisboa\, 1200-470\, Portugal
CATEGORIES:Saison 2021-2022
END:VEVENT
BEGIN:VEVENT
DTSTART;TZID=Europe/Paris:20211025T000000
DTEND;TZID=Europe/Paris:20211028T235959
DTSTAMP:20260421T144936
CREATED:20230315T133825Z
LAST-MODIFIED:20241210T100346Z
UID:2239-1635120000-1635465599@sueyingkoang.com
SUMMARY:Concerti grossi d'A. Costa da Pereira - Ensemble Bonne Corde : Enregistrement
DESCRIPTION:
URL:https://sueyingkoang.com/event/ensemble-bonne-corde-enregistrement/
LOCATION:Igreja Menino de Deus – Lisboa\, Calçada do Menino Deus 25\, Lisboa\, 1100-466\, Portugal
CATEGORIES:Saison 2021-2022
END:VEVENT
BEGIN:VEVENT
DTSTART;TZID=Europe/Paris:20211015T200000
DTEND;TZID=Europe/Paris:20211015T200000
DTSTAMP:20260421T144936
CREATED:20230318T000739Z
LAST-MODIFIED:20241210T100346Z
UID:2489-1634328000-1634328000@sueyingkoang.com
SUMMARY:Mendelssohn & Gade - Archi Luminosi
DESCRIPTION:
URL:https://sueyingkoang.com/event/mendelssohn-gade-archi-luminosi/
LOCATION:Théâtre Les Salons – Genève\, Rue J.-F. Bartholoni 6\, Genève\, 1204\, Suisse
CATEGORIES:Saison 2021-2022
END:VEVENT
BEGIN:VEVENT
DTSTART;TZID=Europe/Paris:20211010T150000
DTEND;TZID=Europe/Paris:20211010T170000
DTSTAMP:20260421T144936
CREATED:20230315T133136Z
LAST-MODIFIED:20241210T100346Z
UID:2232-1633878000-1633885200@sueyingkoang.com
SUMMARY:À la cour de Saxe & détour parisien
DESCRIPTION:
URL:https://sueyingkoang.com/event/a-la-cour-de-saxe-detour-parisien/
LOCATION:Église Saint-Aignan de Gevrey-Chambertin\, Rue de l'Église\, Gevrey-Chambertin\, 21220\, France
CATEGORIES:Saison 2021-2022
END:VEVENT
BEGIN:VEVENT
DTSTART;TZID=Europe/Paris:20210921T000000
DTEND;TZID=Europe/Paris:20210922T235959
DTSTAMP:20260421T144936
CREATED:20230323T104451Z
LAST-MODIFIED:20241210T100346Z
UID:2652-1632182400-1632355199@sueyingkoang.com
SUMMARY:La Chapelle Saint-Marc : Enregistrement - REPORTÉ
DESCRIPTION:
URL:https://sueyingkoang.com/event/enregistrement-chapelle-saint-marc/
LOCATION:Église abbatiale Sainte-Croix de Bouzonville\, 9 Rue du 27 Novembre\, Bouzonville\, 57320\, France
CATEGORIES:Saison 2021-2022
END:VEVENT
BEGIN:VEVENT
DTSTART;TZID=Europe/Paris:20210916T190000
DTEND;TZID=Europe/Paris:20210916T190000
DTSTAMP:20260421T144936
CREATED:20230323T104343Z
LAST-MODIFIED:20241210T100346Z
UID:2650-1631818800-1631818800@sueyingkoang.com
SUMMARY:Quatuor Terpsycordes au MAH - REPORTÉ
DESCRIPTION:
URL:https://sueyingkoang.com/event/quatuor-terpsycordes-au-mah-reporte/
LOCATION:Musée d’Art et d’Histoire de Genève\, Rue Charles-Galland 2\, Genève\, 1206\, Suisse
CATEGORIES:Saison 2021-2022
END:VEVENT
BEGIN:VEVENT
DTSTART;TZID=Europe/Paris:20210911T200000
DTEND;TZID=Europe/Paris:20210911T200000
DTSTAMP:20260421T144936
CREATED:20230318T001156Z
LAST-MODIFIED:20241210T100346Z
UID:2492-1631390400-1631390400@sueyingkoang.com
SUMMARY:Missa Scala - Cappella Mediterranea
DESCRIPTION:
URL:https://sueyingkoang.com/event/missa-scala-cappella-mediterranea/
LOCATION:Temple du Sentier\, VD\, Grande-Rue 42\, Le Chenit\, 1347\, Suisse
CATEGORIES:Saison 2021-2022
END:VEVENT
END:VCALENDAR