BEGIN:VCALENDAR
VERSION:2.0
PRODID:-//Sue-Ying Koang - ECPv6.15.20//NONSGML v1.0//EN
CALSCALE:GREGORIAN
METHOD:PUBLISH
X-ORIGINAL-URL:https://sueyingkoang.com/en
X-WR-CALDESC:Events for Sue-Ying Koang
REFRESH-INTERVAL;VALUE=DURATION:PT1H
X-Robots-Tag:noindex
X-PUBLISHED-TTL:PT1H
BEGIN:VTIMEZONE
TZID:Europe/Paris
BEGIN:DAYLIGHT
TZOFFSETFROM:+0100
TZOFFSETTO:+0200
TZNAME:CEST
DTSTART:20230326T010000
END:DAYLIGHT
BEGIN:STANDARD
TZOFFSETFROM:+0200
TZOFFSETTO:+0100
TZNAME:CET
DTSTART:20231029T010000
END:STANDARD
BEGIN:DAYLIGHT
TZOFFSETFROM:+0100
TZOFFSETTO:+0200
TZNAME:CEST
DTSTART:20240331T010000
END:DAYLIGHT
BEGIN:STANDARD
TZOFFSETFROM:+0200
TZOFFSETTO:+0100
TZNAME:CET
DTSTART:20241027T010000
END:STANDARD
BEGIN:DAYLIGHT
TZOFFSETFROM:+0100
TZOFFSETTO:+0200
TZNAME:CEST
DTSTART:20250330T010000
END:DAYLIGHT
BEGIN:STANDARD
TZOFFSETFROM:+0200
TZOFFSETTO:+0100
TZNAME:CET
DTSTART:20251026T010000
END:STANDARD
END:VTIMEZONE
BEGIN:VEVENT
DTSTART;TZID=Europe/Paris:20240503T110000
DTEND;TZID=Europe/Paris:20240503T123000
DTSTAMP:20260424T062936
CREATED:20230307T075904Z
LAST-MODIFIED:20230331T172725Z
UID:1946-1714734000-1714739400@sueyingkoang.com
SUMMARY:Johann Ernst Bach: Sonatas
DESCRIPTION:with Vincent Bernhardt\, harpsichord & pianoforte \n \n 
URL:https://sueyingkoang.com/en/event/johann-ernst-bach-sonatas/
LOCATION:Basilique de Paray-le-Monial\, salle des boiseries\, Avenue Jean Paul II\, Paray-le-Monial\, 71600\, France
CATEGORIES:Concert Season 2023-2024
END:VEVENT
BEGIN:VEVENT
DTSTART;TZID=Europe/Paris:20240519T170000
DTEND;TZID=Europe/Paris:20240519T190000
DTSTAMP:20260424T062936
CREATED:20240219T102531Z
LAST-MODIFIED:20240509T165402Z
UID:4222-1716138000-1716145200@sueyingkoang.com
SUMMARY:J.S. Bach: Sonatas for violin and obbligato harpsichord
DESCRIPTION:Sue-Ying Koang\, violin; Vincent Bernhardt\, harpsichord
URL:https://sueyingkoang.com/en/event/bach-trios-en-duo/
LOCATION:Temple de Chailly-sur-Lausanne\, Avenue du Temple 11\, Lausanne\, VD\, 1012\, Switzerland
CATEGORIES:Concert Season 2023-2024
END:VEVENT
END:VCALENDAR