BEGIN:VCALENDAR
VERSION:2.0
PRODID:-//Sue-Ying Koang - ECPv6.15.20//NONSGML v1.0//EN
CALSCALE:GREGORIAN
METHOD:PUBLISH
X-ORIGINAL-URL:https://sueyingkoang.com/de
X-WR-CALDESC:Veranstaltungen für Sue-Ying Koang
REFRESH-INTERVAL;VALUE=DURATION:PT1H
X-Robots-Tag:noindex
X-PUBLISHED-TTL:PT1H
BEGIN:VTIMEZONE
TZID:Europe/Paris
BEGIN:DAYLIGHT
TZOFFSETFROM:+0100
TZOFFSETTO:+0200
TZNAME:CEST
DTSTART:20240331T010000
END:DAYLIGHT
BEGIN:STANDARD
TZOFFSETFROM:+0200
TZOFFSETTO:+0100
TZNAME:CET
DTSTART:20241027T010000
END:STANDARD
BEGIN:DAYLIGHT
TZOFFSETFROM:+0100
TZOFFSETTO:+0200
TZNAME:CEST
DTSTART:20250330T010000
END:DAYLIGHT
BEGIN:STANDARD
TZOFFSETFROM:+0200
TZOFFSETTO:+0100
TZNAME:CET
DTSTART:20251026T010000
END:STANDARD
BEGIN:DAYLIGHT
TZOFFSETFROM:+0100
TZOFFSETTO:+0200
TZNAME:CEST
DTSTART:20260329T010000
END:DAYLIGHT
BEGIN:STANDARD
TZOFFSETFROM:+0200
TZOFFSETTO:+0100
TZNAME:CET
DTSTART:20261025T010000
END:STANDARD
END:VTIMEZONE
BEGIN:VEVENT
DTSTART;TZID=Europe/Paris:20251102T170000
DTEND;TZID=Europe/Paris:20251102T183000
DTSTAMP:20260425T162245
CREATED:20251016T171006Z
LAST-MODIFIED:20251016T171006Z
UID:3843-1762102800-1762108200@sueyingkoang.com
SUMMARY:Kammermusik
DESCRIPTION:La Petite Musique de Chambre \nWerke von Telemann \nKerstin Fahr\, Blockflöte\nSue-Ying Koang\, Violine\nClaire Anne Piguet\, Cembalo
URL:https://sueyingkoang.com/de/event/kammermusik-2/
LOCATION:Château du Châtelard\, Montreux\, VD\, Switzerland
CATEGORIES:Konzertsaison 2025-2026
END:VEVENT
BEGIN:VEVENT
DTSTART;TZID=Europe/Paris:20251109T170000
DTEND;TZID=Europe/Paris:20251109T183000
DTSTAMP:20260425T162245
CREATED:20250626T152323Z
LAST-MODIFIED:20250626T152323Z
UID:3768-1762707600-1762713000@sueyingkoang.com
SUMMARY:La Chapelle Saint-Marc: Händel & Torelli
DESCRIPTION:La Chapelle Saint-Marc\nSue-Ying Koang & Jasmine Eudeline\, Violine\nJean Halsdorf\, Cello\nParsival Castro\, Theorbe\nVincent Bernhardt\, Cembalo\, Orgel & Leitung
URL:https://sueyingkoang.com/de/event/csm-haendel-torelli-longsdorf-2025/
LOCATION:Chapelle Saint-Marc\, Longsdorf\, 9459\, Luxembourg
CATEGORIES:Konzertsaison 2025-2026
END:VEVENT
BEGIN:VEVENT
DTSTART;TZID=Europe/Paris:20251128T200000
DTEND;TZID=Europe/Paris:20251128T220000
DTSTAMP:20260425T162245
CREATED:20241212T094407Z
LAST-MODIFIED:20241212T155056Z
UID:3652-1764360000-1764367200@sueyingkoang.com
SUMMARY:J. S. Bach: Solo Rezital
DESCRIPTION:J.S. Bach: Sonaten für Violine Solo BWV 1001\, 1003 & 1005 und Partita in h-moll BWV 1002
URL:https://sueyingkoang.com/de/event/j-s-bach-solo-rezital/
LOCATION:GE
CATEGORIES:Konzertsaison 2025-2026
END:VEVENT
END:VCALENDAR