BEGIN:VCALENDAR
VERSION:2.0
PRODID:-//Sue-Ying Koang - ECPv6.15.20//NONSGML v1.0//EN
CALSCALE:GREGORIAN
METHOD:PUBLISH
X-ORIGINAL-URL:https://sueyingkoang.com/de
X-WR-CALDESC:Veranstaltungen für Sue-Ying Koang
REFRESH-INTERVAL;VALUE=DURATION:PT1H
X-Robots-Tag:noindex
X-PUBLISHED-TTL:PT1H
BEGIN:VTIMEZONE
TZID:Europe/Paris
BEGIN:DAYLIGHT
TZOFFSETFROM:+0100
TZOFFSETTO:+0200
TZNAME:CEST
DTSTART:20240331T010000
END:DAYLIGHT
BEGIN:STANDARD
TZOFFSETFROM:+0200
TZOFFSETTO:+0100
TZNAME:CET
DTSTART:20241027T010000
END:STANDARD
BEGIN:DAYLIGHT
TZOFFSETFROM:+0100
TZOFFSETTO:+0200
TZNAME:CEST
DTSTART:20250330T010000
END:DAYLIGHT
BEGIN:STANDARD
TZOFFSETFROM:+0200
TZOFFSETTO:+0100
TZNAME:CET
DTSTART:20251026T010000
END:STANDARD
BEGIN:DAYLIGHT
TZOFFSETFROM:+0100
TZOFFSETTO:+0200
TZNAME:CEST
DTSTART:20260329T010000
END:DAYLIGHT
BEGIN:STANDARD
TZOFFSETFROM:+0200
TZOFFSETTO:+0100
TZNAME:CET
DTSTART:20261025T010000
END:STANDARD
END:VTIMEZONE
BEGIN:VEVENT
DTSTART;TZID=Europe/Paris:20251003T200000
DTEND;TZID=Europe/Paris:20251003T223000
DTSTAMP:20260426T030311
CREATED:20250627T145815Z
LAST-MODIFIED:20250627T150300Z
UID:3779-1759521600-1759530600@sueyingkoang.com
SUMMARY:Orchestre de la Région Réunion
DESCRIPTION:Werke von Rameau\, Vivaldi\, Zelenka\, Haendel\, Purcell \nOrchestre de la Région Réunion\nChœur de Chambre du Conservatoire à Rayonnement Régional de la Réunion\nLeitung: Benjamin Ingrao\nKonzertmeisterin: Sue-Ying Koang
URL:https://sueyingkoang.com/de/event/orr-2025-2/
LOCATION:Téat Champ Fleuri\, Sainte-Clotilde\, 97490\, Reunion
CATEGORIES:Konzertsaison 2025-2026
END:VEVENT
BEGIN:VEVENT
DTSTART;TZID=Europe/Paris:20251005T170000
DTEND;TZID=Europe/Paris:20251005T183000
DTSTAMP:20260426T030311
CREATED:20250627T144732Z
LAST-MODIFIED:20250627T145449Z
UID:3781-1759683600-1759689000@sueyingkoang.com
SUMMARY:Orchestre de la Région Réunion
DESCRIPTION:Werke von Rameau\, Vivaldi\, Zelenka\, Haendel\, Purcell \nOrchestre de la Région Réunion\nChœur de Chambre du Conservatoire à Rayonnement Régional de la Réunion\nLeitung: Benjamin Ingrao\nKonzertmeisterin: Sue-Ying Koang
URL:https://sueyingkoang.com/de/event/orr-2025/
LOCATION:Théâtre Luc Donat\, Le Tampon\, 97430\, Reunion
CATEGORIES:Konzertsaison 2025-2026
END:VEVENT
BEGIN:VEVENT
DTSTART;TZID=Europe/Paris:20251009T193000
DTEND;TZID=Europe/Paris:20251009T210000
DTSTAMP:20260426T030311
CREATED:20250627T205349Z
LAST-MODIFIED:20250627T210409Z
UID:3797-1760038200-1760043600@sueyingkoang.com
SUMMARY:Ensemble Concerto da Camera: Venezia
DESCRIPTION:Werke von Gabrieli\, de Rore\, Marini\, Castello\, Ziani\, Turini\, Fontana\, Weckmann & Schütz
URL:https://sueyingkoang.com/de/event/hk-emf-venezia-2025/
LOCATION:Kowloon Union Church\, 4 Jordan Road\, Kowloon\, Hong Kong
CATEGORIES:Konzertsaison 2025-2026
END:VEVENT
BEGIN:VEVENT
DTSTART;TZID=Europe/Paris:20251010T193000
DTEND;TZID=Europe/Paris:20251010T210000
DTSTAMP:20260426T030311
CREATED:20250627T210400Z
LAST-MODIFIED:20250627T210400Z
UID:3801-1760124600-1760130000@sueyingkoang.com
SUMMARY:Ensemble Concerto da Camera: Venezia
DESCRIPTION:Werke von Gabrieli\, de Rore\, Marini\, Castello\, Ziani\, Turini\, Fontana\, Weckmann & Schütz
URL:https://sueyingkoang.com/de/event/hk-emf-venezia-2025-2/
LOCATION:Kowloon Union Church\, 4 Jordan Road\, Kowloon\, Hong Kong
CATEGORIES:Konzertsaison 2025-2026
END:VEVENT
BEGIN:VEVENT
DTSTART;TZID=Europe/Paris:20251013T193000
DTEND;TZID=Europe/Paris:20251013T210000
DTSTAMP:20260426T030311
CREATED:20250627T211411Z
LAST-MODIFIED:20250627T211411Z
UID:3803-1760383800-1760389200@sueyingkoang.com
SUMMARY:Ensemble Concerto da Camera: Hamburg
DESCRIPTION:Werke von Telemann\, Graupner & Mattheson
URL:https://sueyingkoang.com/de/event/hk-emf-hamburg-2025/
LOCATION:Kowloon Union Church\, 4 Jordan Road\, Kowloon\, Hong Kong
CATEGORIES:Konzertsaison 2025-2026
END:VEVENT
BEGIN:VEVENT
DTSTART;TZID=Europe/Paris:20251013T193000
DTEND;TZID=Europe/Paris:20251013T210000
DTSTAMP:20260426T030311
CREATED:20250627T212010Z
LAST-MODIFIED:20250627T212010Z
UID:3805-1760383800-1760389200@sueyingkoang.com
SUMMARY:Ensemble Concerto da Camera: Hamburg
DESCRIPTION:Werke von Telemann\, Graupner & Mattheson
URL:https://sueyingkoang.com/de/event/hk-emf-hamburg-2025-2/
LOCATION:Kowloon Union Church\, 4 Jordan Road\, Kowloon\, Hong Kong
CATEGORIES:Konzertsaison 2025-2026
END:VEVENT
BEGIN:VEVENT
DTSTART;TZID=Europe/Paris:20251019T170000
DTEND;TZID=Europe/Paris:20251019T190000
DTSTAMP:20260426T030311
CREATED:20241211T211852Z
LAST-MODIFIED:20251016T055849Z
UID:3647-1760893200-1760900400@sueyingkoang.com
SUMMARY:Torelli - Vivaldi: Vom Meister zum Schüler - La Chapelle Saint-Marc
DESCRIPTION:La Chapelle Saint-Marc\nSue-Ying Koang & Jasmine Eudeline\, Violine\nJean Halsdorf\, Cello\nParsival Castro\, Theorbe\nVincent Bernhardt\, Cembalo\, Orgel & Leitung \nInformationen
URL:https://sueyingkoang.com/de/event/csm-torelli-vivaldi-fribourg-2025/
LOCATION:Kapuzinerkloster\, Rue de Morat 28\, Freiburg\, FR\, 1700\, Switzerland
CATEGORIES:Konzertsaison 2025-2026
END:VEVENT
BEGIN:VEVENT
DTSTART;TZID=Europe/Paris:20251025T171500
DTEND;TZID=Europe/Paris:20251025T190000
DTSTAMP:20260426T030311
CREATED:20250629T191509Z
LAST-MODIFIED:20250629T191527Z
UID:3807-1761412500-1761418800@sueyingkoang.com
SUMMARY:J.S. Bach: Sonate & Partiten
DESCRIPTION:
URL:https://sueyingkoang.com/de/event/bach-solos-jbg-2025/
LOCATION:Orgelbauwerkstatt Gaupillat\, 31 rue Jean de Beauvau\, Noviant-aux-Prés\, 54385\, France
CATEGORIES:Konzertsaison 2025-2026
END:VEVENT
END:VCALENDAR