BEGIN:VCALENDAR
VERSION:2.0
PRODID:-//Sue-Ying Koang - ECPv6.15.20//NONSGML v1.0//EN
CALSCALE:GREGORIAN
METHOD:PUBLISH
X-WR-CALNAME:Sue-Ying Koang
X-ORIGINAL-URL:https://sueyingkoang.com/de
X-WR-CALDESC:Veranstaltungen für Sue-Ying Koang
REFRESH-INTERVAL;VALUE=DURATION:PT1H
X-Robots-Tag:noindex
X-PUBLISHED-TTL:PT1H
BEGIN:VTIMEZONE
TZID:Europe/Paris
BEGIN:DAYLIGHT
TZOFFSETFROM:+0100
TZOFFSETTO:+0200
TZNAME:CEST
DTSTART:20240331T010000
END:DAYLIGHT
BEGIN:STANDARD
TZOFFSETFROM:+0200
TZOFFSETTO:+0100
TZNAME:CET
DTSTART:20241027T010000
END:STANDARD
BEGIN:DAYLIGHT
TZOFFSETFROM:+0100
TZOFFSETTO:+0200
TZNAME:CEST
DTSTART:20250330T010000
END:DAYLIGHT
BEGIN:STANDARD
TZOFFSETFROM:+0200
TZOFFSETTO:+0100
TZNAME:CET
DTSTART:20251026T010000
END:STANDARD
BEGIN:DAYLIGHT
TZOFFSETFROM:+0100
TZOFFSETTO:+0200
TZNAME:CEST
DTSTART:20260329T010000
END:DAYLIGHT
BEGIN:STANDARD
TZOFFSETFROM:+0200
TZOFFSETTO:+0100
TZNAME:CET
DTSTART:20261025T010000
END:STANDARD
END:VTIMEZONE
BEGIN:VEVENT
DTSTART;TZID=Europe/Paris:20250706T180000
DTEND;TZID=Europe/Paris:20250706T200000
DTSTAMP:20260420T231222
CREATED:20241211T135739Z
LAST-MODIFIED:20250626T145801Z
UID:3631-1751824800-1751832000@sueyingkoang.com
SUMMARY:Orgel & Violine
DESCRIPTION:Werke von J. S. Bach \nSue-Ying Koang\, Violine\nDamien Desbenoit\, Orgel
URL:https://sueyingkoang.com/de/event/beaumont-orgue-2025/
LOCATION:Église Saint-Étienne\, Place de l'Église\, Beaumont\, 74160\, France
CATEGORIES:Konzertsaison 2024-2025
END:VEVENT
BEGIN:VEVENT
DTSTART;TZID=Europe/Paris:20250725T110000
DTEND;TZID=Europe/Paris:20250725T123000
DTSTAMP:20260420T231222
CREATED:20250626T154141Z
LAST-MODIFIED:20250626T154141Z
UID:3771-1753441200-1753446600@sueyingkoang.com
SUMMARY:J.S. Bach: Sonaten & Partiten
DESCRIPTION:
URL:https://sueyingkoang.com/de/event/bach-solos-paray-2025/
LOCATION:Basilique de Paray-le-Monial\, salle des boiseries\, Avenue Jean Paul II\, Paray-le-Monial\, 71600\, France
CATEGORIES:Konzertsaison 2024-2025
END:VEVENT
BEGIN:VEVENT
DTSTART;TZID=Europe/Paris:20250726T180000
DTEND;TZID=Europe/Paris:20250726T193000
DTSTAMP:20260420T231222
CREATED:20250626T145925Z
LAST-MODIFIED:20250626T145955Z
UID:3759-1753552800-1753558200@sueyingkoang.com
SUMMARY:J.S. Bach: Sonaten & Partiten
DESCRIPTION:
URL:https://sueyingkoang.com/de/event/bach-solos-saint-gengoux-2025/
LOCATION:Église Saint-Gengoux\, Saint-Gengoux-le-National\, 71460\, France
CATEGORIES:Konzertsaison 2024-2025
END:VEVENT
BEGIN:VEVENT
DTSTART;TZID=Europe/Paris:20250731T203000
DTEND;TZID=Europe/Paris:20250731T220000
DTSTAMP:20260420T231222
CREATED:20250521T194151Z
LAST-MODIFIED:20250626T195520Z
UID:3718-1753993800-1753999200@sueyingkoang.com
SUMMARY:J.S. Bach & J.H. Roman für Violine solo
DESCRIPTION:Werke für Violine solo von J. S. Bach & J. H. Roman
URL:https://sueyingkoang.com/de/event/vic-le-comte-solo-2025/
LOCATION:Église Saint-Jean\, Vic-le-Comte\, 63270\, France
CATEGORIES:Konzertsaison 2024-2025
END:VEVENT
END:VCALENDAR