BEGIN:VCALENDAR
VERSION:2.0
PRODID:-//Sue-Ying Koang - ECPv6.15.20//NONSGML v1.0//EN
CALSCALE:GREGORIAN
METHOD:PUBLISH
X-ORIGINAL-URL:https://sueyingkoang.com/de
X-WR-CALDESC:Veranstaltungen für Sue-Ying Koang
REFRESH-INTERVAL;VALUE=DURATION:PT1H
X-Robots-Tag:noindex
X-PUBLISHED-TTL:PT1H
BEGIN:VTIMEZONE
TZID:Europe/Paris
BEGIN:DAYLIGHT
TZOFFSETFROM:+0100
TZOFFSETTO:+0200
TZNAME:CEST
DTSTART:20240331T010000
END:DAYLIGHT
BEGIN:STANDARD
TZOFFSETFROM:+0200
TZOFFSETTO:+0100
TZNAME:CET
DTSTART:20241027T010000
END:STANDARD
BEGIN:DAYLIGHT
TZOFFSETFROM:+0100
TZOFFSETTO:+0200
TZNAME:CEST
DTSTART:20250330T010000
END:DAYLIGHT
BEGIN:STANDARD
TZOFFSETFROM:+0200
TZOFFSETTO:+0100
TZNAME:CET
DTSTART:20251026T010000
END:STANDARD
BEGIN:DAYLIGHT
TZOFFSETFROM:+0100
TZOFFSETTO:+0200
TZNAME:CEST
DTSTART:20260329T010000
END:DAYLIGHT
BEGIN:STANDARD
TZOFFSETFROM:+0200
TZOFFSETTO:+0100
TZNAME:CET
DTSTART:20261025T010000
END:STANDARD
END:VTIMEZONE
BEGIN:VEVENT
DTSTART;TZID=Europe/Paris:20250606T183000
DTEND;TZID=Europe/Paris:20250606T200000
DTSTAMP:20260421T235149
CREATED:20250521T110659Z
LAST-MODIFIED:20250521T110659Z
UID:3706-1749234600-1749240000@sueyingkoang.com
SUMMARY:J.S. Bach: Sonaten & Partiten
DESCRIPTION:J.S. Bach: Sonate in C-Dur BWV 1005\, Sonate in a-Moll BWV 1003
URL:https://sueyingkoang.com/de/event/j-s-bach-sonaten-partiten-2/
LOCATION:Auditorium Basel\, Solothurnerstrasse 31\, Basel\, BS\, 4053\, Switzerland
CATEGORIES:Konzertsaison 2024-2025
END:VEVENT
BEGIN:VEVENT
DTSTART;TZID=Europe/Paris:20250611T210000
DTEND;TZID=Europe/Paris:20250611T220000
DTSTAMP:20260421T235149
CREATED:20250521T113625Z
LAST-MODIFIED:20250521T114501Z
UID:3708-1749675600-1749679200@sueyingkoang.com
SUMMARY:Vivaldi - Arianna Art Ensemble
DESCRIPTION:Vivaldi: Die vier Jahreszeiten \nStefano Barneschi\, Solo-Violine\nArianna Art Ensemble
URL:https://sueyingkoang.com/de/event/quattro-stagioni-barneschi-1/
LOCATION:Oratorio di Santa Cita\, Via Valverde 3\, Palermo\, 90133\, Italien
CATEGORIES:Konzertsaison 2024-2025
END:VEVENT
BEGIN:VEVENT
DTSTART;TZID=Europe/Paris:20250612T200000
DTEND;TZID=Europe/Paris:20250612T210000
DTSTAMP:20260421T235149
CREATED:20250521T114642Z
LAST-MODIFIED:20250521T193901Z
UID:3713-1749758400-1749762000@sueyingkoang.com
SUMMARY:Vivaldi - Arianna Art Ensemble
DESCRIPTION:Vivaldi: Die vier Jahreszeiten \nStefano Barneschi\, Solo-Violine\nArianna Art Ensemble
URL:https://sueyingkoang.com/de/event/quattro-stagioni-barneschi-2/
LOCATION:Chiesa dei Servi di Maria\, Via Antonino Sersale\, Sorrento\, NA\, 80067\, Italy
CATEGORIES:Konzertsaison 2024-2025
END:VEVENT
BEGIN:VEVENT
DTSTART;TZID=Europe/Paris:20250625T110000
DTEND;TZID=Europe/Paris:20250626T123000
DTSTAMP:20260421T235149
CREATED:20250626T150942Z
LAST-MODIFIED:20250626T150942Z
UID:3764-1750849200-1750941000@sueyingkoang.com
SUMMARY:J.S. Bach: Sonaten & Partiten
DESCRIPTION:
URL:https://sueyingkoang.com/de/event/j-s-bach-sonaten-partiten-3/
LOCATION:Basilique de Paray-le-Monial\, salle des boiseries\, Avenue Jean Paul II\, Paray-le-Monial\, 71600\, France
CATEGORIES:Konzertsaison 2024-2025
END:VEVENT
BEGIN:VEVENT
DTSTART;TZID=Europe/Paris:20250627T200000
DTEND;TZID=Europe/Paris:20250627T213000
DTSTAMP:20260421T235149
CREATED:20250626T144007Z
LAST-MODIFIED:20250626T153944Z
UID:3757-1751054400-1751059800@sueyingkoang.com
SUMMARY:Konzert am Jahresende
DESCRIPTION:Orchestre du Conservatoire d’Annemasse-Agglo\nVioline & Leitung: Sue-Ying Koang \nWerke von Vivaldi\, Händel\, Rameau\, Purcell
URL:https://sueyingkoang.com/de/event/annemasse-conservatoire-orchester-2025/
LOCATION:Conservatoire d’Annemasse\, 7 rue des Savoie\, Annemasse\, 74100\, France
CATEGORIES:Konzertsaison 2024-2025
END:VEVENT
BEGIN:VEVENT
DTSTART;TZID=Europe/Paris:20250629T170000
DTEND;TZID=Europe/Paris:20250629T190000
DTSTAMP:20260421T235149
CREATED:20241211T141324Z
LAST-MODIFIED:20241211T141324Z
UID:3635-1751216400-1751223600@sueyingkoang.com
SUMMARY:La Chapelle Saint-Marc : G. F. Haendel - Orgelkonzerte
DESCRIPTION:La Chapelle Saint-Marc \nVincent Bernhardt\, Orgel & Leitung
URL:https://sueyingkoang.com/de/event/csm-haendel-st-quirin-2025/
LOCATION:Église de Saint-Quirin\, Saint-Quirin\, 57560\, France
CATEGORIES:Konzertsaison 2024-2025
END:VEVENT
END:VCALENDAR