BEGIN:VCALENDAR
VERSION:2.0
PRODID:-//Sue-Ying Koang - ECPv6.15.20//NONSGML v1.0//EN
CALSCALE:GREGORIAN
METHOD:PUBLISH
X-ORIGINAL-URL:https://sueyingkoang.com/de
X-WR-CALDESC:Veranstaltungen für Sue-Ying Koang
REFRESH-INTERVAL;VALUE=DURATION:PT1H
X-Robots-Tag:noindex
X-PUBLISHED-TTL:PT1H
BEGIN:VTIMEZONE
TZID:Europe/Paris
BEGIN:DAYLIGHT
TZOFFSETFROM:+0100
TZOFFSETTO:+0200
TZNAME:CEST
DTSTART:20240331T010000
END:DAYLIGHT
BEGIN:STANDARD
TZOFFSETFROM:+0200
TZOFFSETTO:+0100
TZNAME:CET
DTSTART:20241027T010000
END:STANDARD
BEGIN:DAYLIGHT
TZOFFSETFROM:+0100
TZOFFSETTO:+0200
TZNAME:CEST
DTSTART:20250330T010000
END:DAYLIGHT
BEGIN:STANDARD
TZOFFSETFROM:+0200
TZOFFSETTO:+0100
TZNAME:CET
DTSTART:20251026T010000
END:STANDARD
BEGIN:DAYLIGHT
TZOFFSETFROM:+0100
TZOFFSETTO:+0200
TZNAME:CEST
DTSTART:20260329T010000
END:DAYLIGHT
BEGIN:STANDARD
TZOFFSETFROM:+0200
TZOFFSETTO:+0100
TZNAME:CET
DTSTART:20261025T010000
END:STANDARD
END:VTIMEZONE
BEGIN:VEVENT
DTSTART;TZID=Europe/Paris:20250404T193000
DTEND;TZID=Europe/Paris:20250404T203000
DTSTAMP:20260420T024854
CREATED:20250314T075226Z
LAST-MODIFIED:20250314T075226Z
UID:3680-1743795000-1743798600@sueyingkoang.com
SUMMARY:Solo-Rezital
DESCRIPTION:J. S. Bach: Partita in h-moll für Violine Solo BWV 1002\, Sonate in C-Dur für Violine Solo BWV 1005
URL:https://sueyingkoang.com/de/event/bach-solo/
LOCATION:La Goulue\, Route des Épélévoz 5A\, Saint-Légier-La-Chiésaz\, VD\, 1807\, Switzerland
CATEGORIES:Konzertsaison 2024-2025
END:VEVENT
BEGIN:VEVENT
DTSTART;TZID=Europe/Paris:20250417T180000
DTEND;TZID=Europe/Paris:20250417T190000
DTSTAMP:20260420T024854
CREATED:20250430T071550Z
LAST-MODIFIED:20250430T071550Z
UID:3687-1744912800-1744916400@sueyingkoang.com
SUMMARY:Gründonnerstagsgottesdienst
DESCRIPTION:Sue-Ying Koang\, Violine\nAntonio García\, Orgel \nWerke von J.S. Bach & Palestrina/Rognoni
URL:https://sueyingkoang.com/de/event/gruendonnerstagsgottesdienst-2025/
LOCATION:Église française de Berne\, Zeughausgasse 8\, Berne\, 3011\, Suisse
CATEGORIES:Konzertsaison 2024-2025
END:VEVENT
BEGIN:VEVENT
DTSTART;TZID=Europe/Paris:20250418T100000
DTEND;TZID=Europe/Paris:20250418T110000
DTSTAMP:20260420T024854
CREATED:20250430T072245Z
LAST-MODIFIED:20250430T072245Z
UID:3690-1744970400-1744974000@sueyingkoang.com
SUMMARY:Karfreitags-Gottesdienst
DESCRIPTION:Sue-Ying Koang\, Violine\nAntonio García\, Orgel \nWerke von J. Rheinberger & E. Elgar
URL:https://sueyingkoang.com/de/event/karfreitags-gottesdienst-2025/
LOCATION:Église française de Berne\, Zeughausgasse 8\, Berne\, 3011\, Suisse
CATEGORIES:Konzertsaison 2024-2025
END:VEVENT
BEGIN:VEVENT
DTSTART;TZID=Europe/Paris:20250421T000000
DTEND;TZID=Europe/Paris:20250427T235959
DTSTAMP:20260420T024854
CREATED:20250305T165624Z
LAST-MODIFIED:20250305T165624Z
UID:3665-1745193600-1745798399@sueyingkoang.com
SUMMARY:Barock-Kammermusikkurs
DESCRIPTION:Für Amateurmusiker
URL:https://sueyingkoang.com/de/event/cratoule-2025/
LOCATION:Les Musarts\, Hameau de Cratoule\, Issirac\, 30760\, France
CATEGORIES:Konzertsaison 2024-2025
END:VEVENT
BEGIN:VEVENT
DTSTART;TZID=Europe/Paris:20250430T193000
DTEND;TZID=Europe/Paris:20250430T210000
DTSTAMP:20260420T024854
CREATED:20241210T122931Z
LAST-MODIFIED:20241211T143017Z
UID:3629-1746041400-1746046800@sueyingkoang.com
SUMMARY:Kammermusik
DESCRIPTION:Les Concerts Causeries de Chailly : ein Jahrhundert römischer Musik \nSue-Ying Koang\, Violine\nParsival Castro\, Theorbe
URL:https://sueyingkoang.com/de/event/kammermusik/
LOCATION:Temple de Chailly\, Avenue du Temple 11\, Lausanne\, VD\, 1012\, Schweiz
CATEGORIES:Konzertsaison 2024-2025
END:VEVENT
END:VCALENDAR