BEGIN:VCALENDAR
VERSION:2.0
PRODID:-//Sue-Ying Koang - ECPv6.15.20//NONSGML v1.0//EN
CALSCALE:GREGORIAN
METHOD:PUBLISH
X-WR-CALNAME:Sue-Ying Koang
X-ORIGINAL-URL:https://sueyingkoang.com/de
X-WR-CALDESC:Veranstaltungen für Sue-Ying Koang
REFRESH-INTERVAL;VALUE=DURATION:PT1H
X-Robots-Tag:noindex
X-PUBLISHED-TTL:PT1H
BEGIN:VTIMEZONE
TZID:Europe/Paris
BEGIN:DAYLIGHT
TZOFFSETFROM:+0100
TZOFFSETTO:+0200
TZNAME:CEST
DTSTART:20220327T010000
END:DAYLIGHT
BEGIN:STANDARD
TZOFFSETFROM:+0200
TZOFFSETTO:+0100
TZNAME:CET
DTSTART:20221030T010000
END:STANDARD
BEGIN:DAYLIGHT
TZOFFSETFROM:+0100
TZOFFSETTO:+0200
TZNAME:CEST
DTSTART:20230326T010000
END:DAYLIGHT
BEGIN:STANDARD
TZOFFSETFROM:+0200
TZOFFSETTO:+0100
TZNAME:CET
DTSTART:20231029T010000
END:STANDARD
BEGIN:DAYLIGHT
TZOFFSETFROM:+0100
TZOFFSETTO:+0200
TZNAME:CEST
DTSTART:20240331T010000
END:DAYLIGHT
BEGIN:STANDARD
TZOFFSETFROM:+0200
TZOFFSETTO:+0100
TZNAME:CET
DTSTART:20241027T010000
END:STANDARD
END:VTIMEZONE
BEGIN:VEVENT
DTSTART;TZID=Europe/Paris:20230604T170000
DTEND;TZID=Europe/Paris:20230604T183000
DTSTAMP:20260420T005058
CREATED:20230305T215006Z
LAST-MODIFIED:20230305T215006Z
UID:3123-1685898000-1685903400@sueyingkoang.com
SUMMARY:La Chapelle Saint-Marc : Concertos de Vivaldi
DESCRIPTION:La Chapelle Saint-Marc\, direction Vincent Bernhardt. \n 
URL:https://sueyingkoang.com/de/event/la-chapelle-saint-marc-concertos-de-vivaldi-2/
LOCATION:Église de Saint-Quirin (57)\, Saint-Quirin\, 57560\, France
CATEGORIES:Konzertsaison 2022-2023
END:VEVENT
BEGIN:VEVENT
DTSTART;TZID=Europe/Paris:20230615T190000
DTEND;TZID=Europe/Paris:20230615T190000
DTSTAMP:20260420T005058
CREATED:20230416T182036Z
LAST-MODIFIED:20230417T045426Z
UID:3216-1686855600-1686855600@sueyingkoang.com
SUMMARY:Pereira da Costa: Concerti grossi - Ensemble Bonne Corde
DESCRIPTION:CD-Veröffentlichung von Pereira da Costa: Concerti grossi. Leitung: Diana Vinagre
URL:https://sueyingkoang.com/de/event/pereira-da-costa-bonne-corde/
LOCATION:Palácio Nacional de Queluz\, Largo Palácio de Queluz\, Queluz\, 2745-191\, Portugal
CATEGORIES:Konzertsaison 2022-2023
END:VEVENT
END:VCALENDAR