BEGIN:VCALENDAR
VERSION:2.0
PRODID:-//Sue-Ying Koang - ECPv6.15.20//NONSGML v1.0//EN
CALSCALE:GREGORIAN
METHOD:PUBLISH
X-ORIGINAL-URL:https://sueyingkoang.com/de
X-WR-CALDESC:Veranstaltungen für Sue-Ying Koang
REFRESH-INTERVAL;VALUE=DURATION:PT1H
X-Robots-Tag:noindex
X-PUBLISHED-TTL:PT1H
BEGIN:VTIMEZONE
TZID:Europe/Paris
BEGIN:DAYLIGHT
TZOFFSETFROM:+0100
TZOFFSETTO:+0200
TZNAME:CEST
DTSTART:20220327T010000
END:DAYLIGHT
BEGIN:STANDARD
TZOFFSETFROM:+0200
TZOFFSETTO:+0100
TZNAME:CET
DTSTART:20221030T010000
END:STANDARD
BEGIN:DAYLIGHT
TZOFFSETFROM:+0100
TZOFFSETTO:+0200
TZNAME:CEST
DTSTART:20230326T010000
END:DAYLIGHT
BEGIN:STANDARD
TZOFFSETFROM:+0200
TZOFFSETTO:+0100
TZNAME:CET
DTSTART:20231029T010000
END:STANDARD
BEGIN:DAYLIGHT
TZOFFSETFROM:+0100
TZOFFSETTO:+0200
TZNAME:CEST
DTSTART:20240331T010000
END:DAYLIGHT
BEGIN:STANDARD
TZOFFSETFROM:+0200
TZOFFSETTO:+0100
TZNAME:CET
DTSTART:20241027T010000
END:STANDARD
END:VTIMEZONE
BEGIN:VEVENT
DTSTART;TZID=Europe/Paris:20230507T183000
DTEND;TZID=Europe/Paris:20230507T200000
DTSTAMP:20260420T041014
CREATED:20230305T195556Z
LAST-MODIFIED:20230305T195556Z
UID:3122-1683484200-1683489600@sueyingkoang.com
SUMMARY:Récital
DESCRIPTION:Johan Helmich Roman : Assaggi per violino solo
URL:https://sueyingkoang.com/de/event/recital-4/
LOCATION:La Chaumière\, Rue du Grand Faubourg 23\, Montricher\, 1147\, Switzerland
CATEGORIES:Konzertsaison 2022-2023
END:VEVENT
BEGIN:VEVENT
DTSTART;TZID=Europe/Paris:20230520T130000
DTEND;TZID=Europe/Paris:20230520T143000
DTSTAMP:20260420T041014
CREATED:20230302T143540Z
LAST-MODIFIED:20230302T143540Z
UID:3115-1684587600-1684593000@sueyingkoang.com
SUMMARY:Splendeur du violon italien
DESCRIPTION:avec Vincent Bernhardt (clavecin). Œuvres de Vivaldi\, Veracini\, Caldara & Torelli.
URL:https://sueyingkoang.com/de/event/splendeur-du-violon-italien/
LOCATION:Salle Frank Martin\, Rue de la Vallée 3\, Genève\, 1204\, Suisse
CATEGORIES:Konzertsaison 2022-2023
END:VEVENT
BEGIN:VEVENT
DTSTART;TZID=Europe/Paris:20230521T170000
DTEND;TZID=Europe/Paris:20230521T183000
DTSTAMP:20260420T041014
CREATED:20230302T142652Z
LAST-MODIFIED:20230302T142652Z
UID:3114-1684688400-1684693800@sueyingkoang.com
SUMMARY:Splendeur du violon italien
DESCRIPTION:avec Vincent Bernhardt\, clavecin. Œuvres de Vivaldi\, Veracini\, Caldara & Torelli. Réservation appréciée au +41 (0)21 946 48 17 ou elisa.bracher@bluewin.ch
URL:https://sueyingkoang.com/de/event/splendeur-du-violon-italien-2/
LOCATION:Salle Ennéa\, Chemin du Marguery 16\, Corseaux\, 1802\, Suisse
CATEGORIES:Konzertsaison 2022-2023
END:VEVENT
BEGIN:VEVENT
DTSTART;TZID=Europe/Paris:20230523T193000
DTEND;TZID=Europe/Paris:20230523T210000
DTSTAMP:20260420T041014
CREATED:20230517T090347Z
LAST-MODIFIED:20230517T090347Z
UID:3263-1684870200-1684875600@sueyingkoang.com
SUMMARY:Werke für Solo-Violine von Johan Helmich Roman
DESCRIPTION:
URL:https://sueyingkoang.com/de/event/werke-fuer-solo-violine-von-johan-helmich-roman/
LOCATION:La Lignière\, La Lignière 5\, Gland\, VD\, 1196\, Schweiz
CATEGORIES:Konzertsaison 2022-2023
END:VEVENT
END:VCALENDAR