BEGIN:VCALENDAR
VERSION:2.0
PRODID:-//Sue-Ying Koang - ECPv6.15.20//NONSGML v1.0//EN
CALSCALE:GREGORIAN
METHOD:PUBLISH
X-WR-CALNAME:Sue-Ying Koang
X-ORIGINAL-URL:https://sueyingkoang.com/de
X-WR-CALDESC:Veranstaltungen für Sue-Ying Koang
REFRESH-INTERVAL;VALUE=DURATION:PT1H
X-Robots-Tag:noindex
X-PUBLISHED-TTL:PT1H
BEGIN:VTIMEZONE
TZID:Europe/Paris
BEGIN:DAYLIGHT
TZOFFSETFROM:+0100
TZOFFSETTO:+0200
TZNAME:CEST
DTSTART:20220327T010000
END:DAYLIGHT
BEGIN:STANDARD
TZOFFSETFROM:+0200
TZOFFSETTO:+0100
TZNAME:CET
DTSTART:20221030T010000
END:STANDARD
BEGIN:DAYLIGHT
TZOFFSETFROM:+0100
TZOFFSETTO:+0200
TZNAME:CEST
DTSTART:20230326T010000
END:DAYLIGHT
BEGIN:STANDARD
TZOFFSETFROM:+0200
TZOFFSETTO:+0100
TZNAME:CET
DTSTART:20231029T010000
END:STANDARD
BEGIN:DAYLIGHT
TZOFFSETFROM:+0100
TZOFFSETTO:+0200
TZNAME:CEST
DTSTART:20240331T010000
END:DAYLIGHT
BEGIN:STANDARD
TZOFFSETFROM:+0200
TZOFFSETTO:+0100
TZNAME:CET
DTSTART:20241027T010000
END:STANDARD
END:VTIMEZONE
BEGIN:VEVENT
DTSTART;TZID=Europe/Paris:20230402T170000
DTEND;TZID=Europe/Paris:20230402T193000
DTSTAMP:20260420T092658
CREATED:20230302T082435Z
LAST-MODIFIED:20230302T082435Z
UID:3108-1680454800-1680463800@sueyingkoang.com
SUMMARY:Bach : Passion selon Saint-Matthieu
DESCRIPTION:Ensemble Arabesque\, die Freitagsakademie\, choeur de chambre HEP\, Liens Harmoniques. Direction : Julien Laloux
URL:https://sueyingkoang.com/de/event/bach-passion-saint-matthieu/
LOCATION:Église de Compesières\, Route de Cugny 99\, Croix-de-Rozon\, 1257\, Suisse
CATEGORIES:Konzertsaison 2022-2023
END:VEVENT
BEGIN:VEVENT
DTSTART;TZID=Europe/Paris:20230406T193000
DTEND;TZID=Europe/Paris:20230406T220000
DTSTAMP:20260420T092658
CREATED:20230302T083129Z
LAST-MODIFIED:20230302T083129Z
UID:3109-1680809400-1680818400@sueyingkoang.com
SUMMARY:Bach : Passion selon Saint-Matthieu
DESCRIPTION:Ensemble Arabesque\, die Freitagsakademie\, choeur de chambre HEP\, Liens Harmoniques. Direction : Julien Laloux
URL:https://sueyingkoang.com/de/event/bach-passion-saint-matthieu-2/
LOCATION:Salle del Castillo Vevey\, Place du marché 1\, Vevey\, 1800\, Suisse
CATEGORIES:Konzertsaison 2022-2023
END:VEVENT
BEGIN:VEVENT
DTSTART;TZID=Europe/Paris:20230407T160000
DTEND;TZID=Europe/Paris:20230407T183000
DTSTAMP:20260420T092658
CREATED:20230305T173237Z
LAST-MODIFIED:20230305T173237Z
UID:3116-1680883200-1680892200@sueyingkoang.com
SUMMARY:Bach : Passion selon Saint-Matthieu
DESCRIPTION:Ensemble Arabesque\, die Freitagsakademie\, chœur de chambre HEP\, Liens Harmoniques. Direction : Julien Laloux
URL:https://sueyingkoang.com/de/event/bach-passion-selon-saint-matthieu/
LOCATION:Église française de Berne\, Zeughausgasse 8\, Berne\, 3011\, Suisse
CATEGORIES:Konzertsaison 2022-2023
END:VEVENT
BEGIN:VEVENT
DTSTART;TZID=Europe/Paris:20230413T160000
DTEND;TZID=Europe/Paris:20230413T170000
DTSTAMP:20260420T092658
CREATED:20230305T194827Z
LAST-MODIFIED:20230305T194827Z
UID:3121-1681401600-1681405200@sueyingkoang.com
SUMMARY:Répertoire traditionnel sicilien
DESCRIPTION:Avec Salvatore Meccio\, voix\, guitare et tambourin
URL:https://sueyingkoang.com/de/event/concert-traditional-sicilian-repertoire/
LOCATION:RSA Palermo\, Via Gaetano La Loggia 5\, Palermo\, Italie
CATEGORIES:Konzertsaison 2022-2023
END:VEVENT
END:VCALENDAR