BEGIN:VCALENDAR
VERSION:2.0
PRODID:-//Sue-Ying Koang - ECPv6.15.20//NONSGML v1.0//EN
CALSCALE:GREGORIAN
METHOD:PUBLISH
X-ORIGINAL-URL:https://sueyingkoang.com/de
X-WR-CALDESC:Veranstaltungen für Sue-Ying Koang
REFRESH-INTERVAL;VALUE=DURATION:PT1H
X-Robots-Tag:noindex
X-PUBLISHED-TTL:PT1H
BEGIN:VTIMEZONE
TZID:Europe/Paris
BEGIN:DAYLIGHT
TZOFFSETFROM:+0100
TZOFFSETTO:+0200
TZNAME:CEST
DTSTART:20180325T010000
END:DAYLIGHT
BEGIN:STANDARD
TZOFFSETFROM:+0200
TZOFFSETTO:+0100
TZNAME:CET
DTSTART:20181028T010000
END:STANDARD
BEGIN:DAYLIGHT
TZOFFSETFROM:+0100
TZOFFSETTO:+0200
TZNAME:CEST
DTSTART:20190331T010000
END:DAYLIGHT
BEGIN:STANDARD
TZOFFSETFROM:+0200
TZOFFSETTO:+0100
TZNAME:CET
DTSTART:20191027T010000
END:STANDARD
BEGIN:DAYLIGHT
TZOFFSETFROM:+0100
TZOFFSETTO:+0200
TZNAME:CEST
DTSTART:20200329T010000
END:DAYLIGHT
BEGIN:STANDARD
TZOFFSETFROM:+0200
TZOFFSETTO:+0100
TZNAME:CET
DTSTART:20201025T010000
END:STANDARD
BEGIN:DAYLIGHT
TZOFFSETFROM:+0100
TZOFFSETTO:+0200
TZNAME:CEST
DTSTART:20210328T010000
END:DAYLIGHT
BEGIN:STANDARD
TZOFFSETFROM:+0200
TZOFFSETTO:+0100
TZNAME:CET
DTSTART:20211031T010000
END:STANDARD
BEGIN:DAYLIGHT
TZOFFSETFROM:+0100
TZOFFSETTO:+0200
TZNAME:CEST
DTSTART:20220327T010000
END:DAYLIGHT
BEGIN:STANDARD
TZOFFSETFROM:+0200
TZOFFSETTO:+0100
TZNAME:CET
DTSTART:20221030T010000
END:STANDARD
BEGIN:DAYLIGHT
TZOFFSETFROM:+0100
TZOFFSETTO:+0200
TZNAME:CEST
DTSTART:20230326T010000
END:DAYLIGHT
BEGIN:STANDARD
TZOFFSETFROM:+0200
TZOFFSETTO:+0100
TZNAME:CET
DTSTART:20231029T010000
END:STANDARD
BEGIN:DAYLIGHT
TZOFFSETFROM:+0100
TZOFFSETTO:+0200
TZNAME:CEST
DTSTART:20240331T010000
END:DAYLIGHT
BEGIN:STANDARD
TZOFFSETFROM:+0200
TZOFFSETTO:+0100
TZNAME:CET
DTSTART:20241027T010000
END:STANDARD
END:VTIMEZONE
BEGIN:VEVENT
DTSTART;TZID=Europe/Paris:20190928T193000
DTEND;TZID=Europe/Paris:20230328T170000
DTSTAMP:20260420T075930
CREATED:20230326T101102Z
LAST-MODIFIED:20230326T101102Z
UID:3002-1569699000-1680022800@sueyingkoang.com
SUMMARY:Rameau : Les Indes Galantes - Cappella Mediterranea
DESCRIPTION:
URL:https://sueyingkoang.com/de/event/rameau-les-indes-galantes-cappella-mediterranea-10/
LOCATION:Opéra Bastille\, Place de la Bastille\, Paris\, 75012\, France
CATEGORIES:Konzertsaison 2019-2020
END:VEVENT
BEGIN:VEVENT
DTSTART;TZID=Europe/Paris:20230303T200000
DTEND;TZID=Europe/Paris:20230303T213000
DTSTAMP:20260420T075930
CREATED:20230225T223222Z
LAST-MODIFIED:20230225T223222Z
UID:3105-1677873600-1677879000@sueyingkoang.com
SUMMARY:Concert violon clavecin avec Vincent Bernhardt
DESCRIPTION:Avec Vincent Bernhardt\, clavecin. Œuvres de G. Torelli\, J.S. Bach\, J.H. Roman\, J.F. Schreivogel
URL:https://sueyingkoang.com/de/event/concert-violon-clavecin/
LOCATION:Temple de Begnins\, Rue de l'Église 4\, Begnins\, 1268\, Suisse
CATEGORIES:Konzertsaison 2022-2023
END:VEVENT
BEGIN:VEVENT
DTSTART;TZID=Europe/Paris:20230319T170000
DTEND;TZID=Europe/Paris:20230319T183000
DTSTAMP:20260420T075930
CREATED:20230226T144622Z
LAST-MODIFIED:20230226T144622Z
UID:3106-1679245200-1679250600@sueyingkoang.com
SUMMARY:La Chapelle Saint-Marc : L'Estro Armonico de Vivaldi
DESCRIPTION:  \nEnsemble La Chapelle Saint-Marc\, direction\, clavecin & orgue : Vincent Bernhardt \nSolistes : Sue-Ying Koang\, Stéphanie Pfister et Jean Halsdorf \n \n 
URL:https://sueyingkoang.com/de/event/la-chapelle-saint-marc-lestro-armonico-de-vivaldi/
LOCATION:Temple de Morges\, Place de l'Eglise 2\, Morges\, 1110\, Suisse
CATEGORIES:Konzertsaison 2022-2023
END:VEVENT
BEGIN:VEVENT
DTSTART;TZID=Europe/Paris:20230322T200000
DTEND;TZID=Europe/Paris:20230322T230000
DTSTAMP:20260420T075930
CREATED:20230317T232354Z
LAST-MODIFIED:20230317T232354Z
UID:2447-1679515200-1679526000@sueyingkoang.com
SUMMARY:Haydn : Les Saisons - Les Arts Florissants
DESCRIPTION:  \n 
URL:https://sueyingkoang.com/de/event/haydn-les-saisons-arts-florissants-3/
LOCATION:Philharmonie de Paris\, 221 Avenue Jean Jaurès\, Paris\, 75019\, France
CATEGORIES:Konzertsaison 2022-2023
END:VEVENT
BEGIN:VEVENT
DTSTART;TZID=Europe/Paris:20230324T193000
DTEND;TZID=Europe/Paris:20230324T193000
DTSTAMP:20260420T075930
CREATED:20230318T121259Z
LAST-MODIFIED:20230318T121259Z
UID:2549-1679686200-1679686200@sueyingkoang.com
SUMMARY:Haydn : Les Saisons - Les Arts Florissants
DESCRIPTION:Les Arts Florissants\, William Christie
URL:https://sueyingkoang.com/de/event/haydn-les-saisons-arts-florissants-4/
LOCATION:Victoria Hall\, Rue du Général-Dufour 14\, Genève\, 1204\, Suisse
CATEGORIES:Konzertsaison 2022-2023
END:VEVENT
BEGIN:VEVENT
DTSTART;TZID=Europe/Paris:20230325T193000
DTEND;TZID=Europe/Paris:20230325T193000
DTSTAMP:20260420T075930
CREATED:20230318T121503Z
LAST-MODIFIED:20230318T121503Z
UID:2553-1679772600-1679772600@sueyingkoang.com
SUMMARY:Haydn : Les Saisons - Les Arts Florissants
DESCRIPTION:Les Arts Florissants\, William Christie
URL:https://sueyingkoang.com/de/event/haydn-les-saisons-arts-florissants-2/
LOCATION:Casino Bern\, Casinoplatz 1\, Bern\, 3011\, Suisse
CATEGORIES:Konzertsaison 2022-2023
END:VEVENT
BEGIN:VEVENT
DTSTART;TZID=Europe/Paris:20230326T183000
DTEND;TZID=Europe/Paris:20230326T183000
DTSTAMP:20260420T075930
CREATED:20230318T121642Z
LAST-MODIFIED:20230318T121642Z
UID:2558-1679855400-1679855400@sueyingkoang.com
SUMMARY:Haydn : Les Saisons - Les Arts Florissants
DESCRIPTION:
URL:https://sueyingkoang.com/de/event/haydn-les-saisons-arts-florissants/
LOCATION:Tonhalle – Zürich\, Claridenstrasse 7\, Zürich\, 8002\, Suisse
CATEGORIES:Konzertsaison 2022-2023
END:VEVENT
END:VCALENDAR