BEGIN:VCALENDAR
VERSION:2.0
PRODID:-//Sue-Ying Koang - ECPv6.15.20//NONSGML v1.0//EN
CALSCALE:GREGORIAN
METHOD:PUBLISH
X-WR-CALNAME:Sue-Ying Koang
X-ORIGINAL-URL:https://sueyingkoang.com/de
X-WR-CALDESC:Veranstaltungen für Sue-Ying Koang
REFRESH-INTERVAL;VALUE=DURATION:PT1H
X-Robots-Tag:noindex
X-PUBLISHED-TTL:PT1H
BEGIN:VTIMEZONE
TZID:Europe/Paris
BEGIN:DAYLIGHT
TZOFFSETFROM:+0100
TZOFFSETTO:+0200
TZNAME:CEST
DTSTART:20180325T010000
END:DAYLIGHT
BEGIN:STANDARD
TZOFFSETFROM:+0200
TZOFFSETTO:+0100
TZNAME:CET
DTSTART:20181028T010000
END:STANDARD
BEGIN:DAYLIGHT
TZOFFSETFROM:+0100
TZOFFSETTO:+0200
TZNAME:CEST
DTSTART:20190331T010000
END:DAYLIGHT
BEGIN:STANDARD
TZOFFSETFROM:+0200
TZOFFSETTO:+0100
TZNAME:CET
DTSTART:20191027T010000
END:STANDARD
BEGIN:DAYLIGHT
TZOFFSETFROM:+0100
TZOFFSETTO:+0200
TZNAME:CEST
DTSTART:20200329T010000
END:DAYLIGHT
BEGIN:STANDARD
TZOFFSETFROM:+0200
TZOFFSETTO:+0100
TZNAME:CET
DTSTART:20201025T010000
END:STANDARD
BEGIN:DAYLIGHT
TZOFFSETFROM:+0100
TZOFFSETTO:+0200
TZNAME:CEST
DTSTART:20210328T010000
END:DAYLIGHT
BEGIN:STANDARD
TZOFFSETFROM:+0200
TZOFFSETTO:+0100
TZNAME:CET
DTSTART:20211031T010000
END:STANDARD
BEGIN:DAYLIGHT
TZOFFSETFROM:+0100
TZOFFSETTO:+0200
TZNAME:CEST
DTSTART:20220327T010000
END:DAYLIGHT
BEGIN:STANDARD
TZOFFSETFROM:+0200
TZOFFSETTO:+0100
TZNAME:CET
DTSTART:20221030T010000
END:STANDARD
BEGIN:DAYLIGHT
TZOFFSETFROM:+0100
TZOFFSETTO:+0200
TZNAME:CEST
DTSTART:20230326T010000
END:DAYLIGHT
BEGIN:STANDARD
TZOFFSETFROM:+0200
TZOFFSETTO:+0100
TZNAME:CET
DTSTART:20231029T010000
END:STANDARD
BEGIN:DAYLIGHT
TZOFFSETFROM:+0100
TZOFFSETTO:+0200
TZNAME:CEST
DTSTART:20240331T010000
END:DAYLIGHT
BEGIN:STANDARD
TZOFFSETFROM:+0200
TZOFFSETTO:+0100
TZNAME:CET
DTSTART:20241027T010000
END:STANDARD
END:VTIMEZONE
BEGIN:VEVENT
DTSTART;TZID=Europe/Paris:20190928T193000
DTEND;TZID=Europe/Paris:20230328T170000
DTSTAMP:20260421T001212
CREATED:20230326T101102Z
LAST-MODIFIED:20230326T101102Z
UID:3002-1569699000-1680022800@sueyingkoang.com
SUMMARY:Rameau : Les Indes Galantes - Cappella Mediterranea
DESCRIPTION:
URL:https://sueyingkoang.com/de/event/rameau-les-indes-galantes-cappella-mediterranea-10/
LOCATION:Opéra Bastille\, Place de la Bastille\, Paris\, 75012\, France
CATEGORIES:Konzertsaison 2019-2020
END:VEVENT
BEGIN:VEVENT
DTSTART;TZID=Europe/Paris:20221104T193000
DTEND;TZID=Europe/Paris:20221104T220000
DTSTAMP:20260421T001212
CREATED:20230315T105428Z
LAST-MODIFIED:20230315T105428Z
UID:2172-1667590200-1667599200@sueyingkoang.com
SUMMARY:Haendel : Le Messie
DESCRIPTION:Tribunes Baroques & Opalescences
URL:https://sueyingkoang.com/de/event/haendel-le-messie-3/
LOCATION:Église de Reinach\, Bruderholzstrasse 39\, Reinach\, 4153\, Suisse
CATEGORIES:Konzertsaison 2022-2023
END:VEVENT
BEGIN:VEVENT
DTSTART;TZID=Europe/Paris:20221105T193000
DTEND;TZID=Europe/Paris:20221105T220000
DTSTAMP:20260421T001212
CREATED:20230315T105026Z
LAST-MODIFIED:20230315T105026Z
UID:2168-1667676600-1667685600@sueyingkoang.com
SUMMARY:Haendel : Le Messie
DESCRIPTION:Tribunes Baroques & Opalescences
URL:https://sueyingkoang.com/de/event/haendel-le-messie-2/
LOCATION:Église des Jésuites de Porrentruy\, Place Blarer-de-Wartensee\, Porrentruy\, 2900\, Suisse
CATEGORIES:Konzertsaison 2022-2023
END:VEVENT
BEGIN:VEVENT
DTSTART;TZID=Europe/Paris:20221106T170000
DTEND;TZID=Europe/Paris:20221106T193000
DTSTAMP:20260421T001212
CREATED:20230315T104911Z
LAST-MODIFIED:20230315T104911Z
UID:2163-1667754000-1667763000@sueyingkoang.com
SUMMARY:Haendel : Le Messie
DESCRIPTION:Tribunes Baroques & Opalescences
URL:https://sueyingkoang.com/de/event/haendel-le-messie/
LOCATION:Église des Jésuites de Porrentruy\, Place Blarer-de-Wartensee\, Porrentruy\, 2900\, Suisse
CATEGORIES:Konzertsaison 2022-2023
END:VEVENT
BEGIN:VEVENT
DTSTART;TZID=Europe/Paris:20221113T170000
DTEND;TZID=Europe/Paris:20221113T200000
DTSTAMP:20260421T001212
CREATED:20230315T131350Z
LAST-MODIFIED:20230315T131350Z
UID:2215-1668358800-1668369600@sueyingkoang.com
SUMMARY:Haendel : Le Messie
DESCRIPTION:
URL:https://sueyingkoang.com/de/event/haendel-le-messie-4/
LOCATION:Auditorium Stravinski – Montreux\, Grand' Rue 95\, Montreux\, 1820\, Suisse
CATEGORIES:Konzertsaison 2022-2023
END:VEVENT
BEGIN:VEVENT
DTSTART;TZID=Europe/Paris:20221120T170000
DTEND;TZID=Europe/Paris:20221120T190000
DTSTAMP:20260421T001212
CREATED:20230302T103611Z
LAST-MODIFIED:20230302T103611Z
UID:3112-1668963600-1668970800@sueyingkoang.com
SUMMARY:Bach : Cantates
DESCRIPTION:Ensemble evolutiO\, direction Julien Laloux \nCantates sacrées BWV 70\, 91 et 140
URL:https://sueyingkoang.com/de/event/bach-cantates/
LOCATION:Temple de Lutry\, Place de Temple\, Lutry\, 1095\, Suisse
CATEGORIES:Konzertsaison 2022-2023
END:VEVENT
BEGIN:VEVENT
DTSTART;TZID=Europe/Paris:20221127T100000
DTEND;TZID=Europe/Paris:20221127T110000
DTSTAMP:20260421T001212
CREATED:20230315T104618Z
LAST-MODIFIED:20230315T104618Z
UID:3132-1669543200-1669546800@sueyingkoang.com
SUMMARY:Culte musical
DESCRIPTION:avec Matthias Riise\, orgue
URL:https://sueyingkoang.com/de/event/culte-musical/
LOCATION:Chapelle d’Anières\, Chemin de Cortenaz 5\, Anières\, 1247\, Switzerland
CATEGORIES:Konzertsaison 2022-2023
END:VEVENT
BEGIN:VEVENT
DTSTART;TZID=Europe/Paris:20221127T170000
DTEND;TZID=Europe/Paris:20221127T190000
DTSTAMP:20260421T001212
CREATED:20230307T113151Z
LAST-MODIFIED:20230307T113151Z
UID:3129-1669568400-1669575600@sueyingkoang.com
SUMMARY:Durante : Magnificat
DESCRIPTION:Cantus Laetus & Ensemble Baroque du Léman\, direction : Natacha Casagrande \nŒuvres de Durante\, Vivaldi\, Pergolesi\, Haendel \n 
URL:https://sueyingkoang.com/de/event/choir-and-orchestra-concert/
LOCATION:Temple de la Madeleine – Genève\, Rue de la Madeleine 15\, Genève\, 1204\, Suisse
CATEGORIES:Konzertsaison 2022-2023
END:VEVENT
END:VCALENDAR