BEGIN:VCALENDAR
VERSION:2.0
PRODID:-//Sue-Ying Koang - ECPv6.15.20//NONSGML v1.0//EN
CALSCALE:GREGORIAN
METHOD:PUBLISH
X-ORIGINAL-URL:https://sueyingkoang.com/de
X-WR-CALDESC:Veranstaltungen für Sue-Ying Koang
REFRESH-INTERVAL;VALUE=DURATION:PT1H
X-Robots-Tag:noindex
X-PUBLISHED-TTL:PT1H
BEGIN:VTIMEZONE
TZID:Europe/Paris
BEGIN:DAYLIGHT
TZOFFSETFROM:+0100
TZOFFSETTO:+0200
TZNAME:CEST
DTSTART:20180325T010000
END:DAYLIGHT
BEGIN:STANDARD
TZOFFSETFROM:+0200
TZOFFSETTO:+0100
TZNAME:CET
DTSTART:20181028T010000
END:STANDARD
BEGIN:DAYLIGHT
TZOFFSETFROM:+0100
TZOFFSETTO:+0200
TZNAME:CEST
DTSTART:20190331T010000
END:DAYLIGHT
BEGIN:STANDARD
TZOFFSETFROM:+0200
TZOFFSETTO:+0100
TZNAME:CET
DTSTART:20191027T010000
END:STANDARD
BEGIN:DAYLIGHT
TZOFFSETFROM:+0100
TZOFFSETTO:+0200
TZNAME:CEST
DTSTART:20200329T010000
END:DAYLIGHT
BEGIN:STANDARD
TZOFFSETFROM:+0200
TZOFFSETTO:+0100
TZNAME:CET
DTSTART:20201025T010000
END:STANDARD
BEGIN:DAYLIGHT
TZOFFSETFROM:+0100
TZOFFSETTO:+0200
TZNAME:CEST
DTSTART:20210328T010000
END:DAYLIGHT
BEGIN:STANDARD
TZOFFSETFROM:+0200
TZOFFSETTO:+0100
TZNAME:CET
DTSTART:20211031T010000
END:STANDARD
BEGIN:DAYLIGHT
TZOFFSETFROM:+0100
TZOFFSETTO:+0200
TZNAME:CEST
DTSTART:20220327T010000
END:DAYLIGHT
BEGIN:STANDARD
TZOFFSETFROM:+0200
TZOFFSETTO:+0100
TZNAME:CET
DTSTART:20221030T010000
END:STANDARD
BEGIN:DAYLIGHT
TZOFFSETFROM:+0100
TZOFFSETTO:+0200
TZNAME:CEST
DTSTART:20230326T010000
END:DAYLIGHT
BEGIN:STANDARD
TZOFFSETFROM:+0200
TZOFFSETTO:+0100
TZNAME:CET
DTSTART:20231029T010000
END:STANDARD
BEGIN:DAYLIGHT
TZOFFSETFROM:+0100
TZOFFSETTO:+0200
TZNAME:CEST
DTSTART:20240331T010000
END:DAYLIGHT
BEGIN:STANDARD
TZOFFSETFROM:+0200
TZOFFSETTO:+0100
TZNAME:CET
DTSTART:20241027T010000
END:STANDARD
END:VTIMEZONE
BEGIN:VEVENT
DTSTART;TZID=Europe/Paris:20190928T193000
DTEND;TZID=Europe/Paris:20230328T170000
DTSTAMP:20260422T054708
CREATED:20230326T101102Z
LAST-MODIFIED:20230326T101102Z
UID:3002-1569699000-1680022800@sueyingkoang.com
SUMMARY:Rameau : Les Indes Galantes - Cappella Mediterranea
DESCRIPTION:
URL:https://sueyingkoang.com/de/event/rameau-les-indes-galantes-cappella-mediterranea-10/
LOCATION:Opéra Bastille\, Place de la Bastille\, Paris\, 75012\, France
CATEGORIES:Konzertsaison 2019-2020
END:VEVENT
BEGIN:VEVENT
DTSTART;TZID=Europe/Paris:20220708T080000
DTEND;TZID=Europe/Paris:20220708T170000
DTSTAMP:20260422T054708
CREATED:20230323T120427Z
LAST-MODIFIED:20230323T120427Z
UID:2706-1657267200-1657299600@sueyingkoang.com
SUMMARY:Mozart & Haydn : Le Stagioni
DESCRIPTION:
URL:https://sueyingkoang.com/de/event/mozart-haydn-le-stagioni/
LOCATION:Schloss Augustusburg\, Brühl\, 50321\, Allemagne
CATEGORIES:Konzertsaison 2021-2022
END:VEVENT
BEGIN:VEVENT
DTSTART;TZID=Europe/Paris:20220724T170000
DTEND;TZID=Europe/Paris:20220724T183000
DTSTAMP:20260422T054708
CREATED:20221130T212334Z
LAST-MODIFIED:20221130T212334Z
UID:3099-1658682000-1658687400@sueyingkoang.com
SUMMARY:Le règne du violon en Italie et en Autriche au XVIIe siècle
DESCRIPTION:avec Vincent Bernhardt\, orgue du triforium de la Cathédrale de Metz \nŒuvres de Biber\, Muffat\, Schmelzer\, Frescobaldi\, Castello\, Palestrina.
URL:https://sueyingkoang.com/de/event/le-regne-du-violon/
LOCATION:Cathédrale de Metz\, Place d'Armes\, Metz\, 57000\, France
CATEGORIES:Konzertsaison 2021-2022
END:VEVENT
BEGIN:VEVENT
DTSTART;TZID=Europe/Paris:20220725T000000
DTEND;TZID=Europe/Paris:20220730T235959
DTSTAMP:20260422T054708
CREATED:20230323T130235Z
LAST-MODIFIED:20230323T130235Z
UID:2716-1658707200-1659225599@sueyingkoang.com
SUMMARY:Stage de musique ancienne
DESCRIPTION:
URL:https://sueyingkoang.com/de/event/stage-de-musique-ancienne/
LOCATION:Les Musarts\, Hameau de Cratoule\, Issirac\, 30760\, France
CATEGORIES:Konzertsaison 2021-2022
END:VEVENT
BEGIN:VEVENT
DTSTART;TZID=Europe/Paris:20220731T170000
DTEND;TZID=Europe/Paris:20220731T170000
DTSTAMP:20260422T054708
CREATED:20230323T121301Z
LAST-MODIFIED:20230323T121301Z
UID:2711-1659286800-1659286800@sueyingkoang.com
SUMMARY:Zum Wohl Johann-Sebastian! - La Fenice\, Jean Tubéry
DESCRIPTION:
URL:https://sueyingkoang.com/de/event/zum-wohl-johann-sebastian-la-fenice-jean-tubery/
LOCATION:Abbaye de Sylvanès\, Le Bourg\, Sylvanès\, 12360\, France
CATEGORIES:Konzertsaison 2021-2022
END:VEVENT
END:VCALENDAR