BEGIN:VCALENDAR
VERSION:2.0
PRODID:-//Sue-Ying Koang - ECPv6.15.20//NONSGML v1.0//EN
CALSCALE:GREGORIAN
METHOD:PUBLISH
X-ORIGINAL-URL:https://sueyingkoang.com/de
X-WR-CALDESC:Veranstaltungen für Sue-Ying Koang
REFRESH-INTERVAL;VALUE=DURATION:PT1H
X-Robots-Tag:noindex
X-PUBLISHED-TTL:PT1H
BEGIN:VTIMEZONE
TZID:Europe/Paris
BEGIN:DAYLIGHT
TZOFFSETFROM:+0100
TZOFFSETTO:+0200
TZNAME:CEST
DTSTART:20180325T010000
END:DAYLIGHT
BEGIN:STANDARD
TZOFFSETFROM:+0200
TZOFFSETTO:+0100
TZNAME:CET
DTSTART:20181028T010000
END:STANDARD
BEGIN:DAYLIGHT
TZOFFSETFROM:+0100
TZOFFSETTO:+0200
TZNAME:CEST
DTSTART:20190331T010000
END:DAYLIGHT
BEGIN:STANDARD
TZOFFSETFROM:+0200
TZOFFSETTO:+0100
TZNAME:CET
DTSTART:20191027T010000
END:STANDARD
BEGIN:DAYLIGHT
TZOFFSETFROM:+0100
TZOFFSETTO:+0200
TZNAME:CEST
DTSTART:20200329T010000
END:DAYLIGHT
BEGIN:STANDARD
TZOFFSETFROM:+0200
TZOFFSETTO:+0100
TZNAME:CET
DTSTART:20201025T010000
END:STANDARD
BEGIN:DAYLIGHT
TZOFFSETFROM:+0100
TZOFFSETTO:+0200
TZNAME:CEST
DTSTART:20210328T010000
END:DAYLIGHT
BEGIN:STANDARD
TZOFFSETFROM:+0200
TZOFFSETTO:+0100
TZNAME:CET
DTSTART:20211031T010000
END:STANDARD
BEGIN:DAYLIGHT
TZOFFSETFROM:+0100
TZOFFSETTO:+0200
TZNAME:CEST
DTSTART:20220327T010000
END:DAYLIGHT
BEGIN:STANDARD
TZOFFSETFROM:+0200
TZOFFSETTO:+0100
TZNAME:CET
DTSTART:20221030T010000
END:STANDARD
BEGIN:DAYLIGHT
TZOFFSETFROM:+0100
TZOFFSETTO:+0200
TZNAME:CEST
DTSTART:20230326T010000
END:DAYLIGHT
BEGIN:STANDARD
TZOFFSETFROM:+0200
TZOFFSETTO:+0100
TZNAME:CET
DTSTART:20231029T010000
END:STANDARD
BEGIN:DAYLIGHT
TZOFFSETFROM:+0100
TZOFFSETTO:+0200
TZNAME:CEST
DTSTART:20240331T010000
END:DAYLIGHT
BEGIN:STANDARD
TZOFFSETFROM:+0200
TZOFFSETTO:+0100
TZNAME:CET
DTSTART:20241027T010000
END:STANDARD
END:VTIMEZONE
BEGIN:VEVENT
DTSTART;TZID=Europe/Paris:20190928T193000
DTEND;TZID=Europe/Paris:20230328T170000
DTSTAMP:20260425T143409
CREATED:20230326T101102Z
LAST-MODIFIED:20230326T101102Z
UID:3002-1569699000-1680022800@sueyingkoang.com
SUMMARY:Rameau : Les Indes Galantes - Cappella Mediterranea
DESCRIPTION:
URL:https://sueyingkoang.com/de/event/rameau-les-indes-galantes-cappella-mediterranea-10/
LOCATION:Opéra Bastille\, Place de la Bastille\, Paris\, 75012\, France
CATEGORIES:Konzertsaison 2019-2020
END:VEVENT
BEGIN:VEVENT
DTSTART;TZID=Europe/Paris:20220304T203000
DTEND;TZID=Europe/Paris:20220304T203000
DTSTAMP:20260425T143409
CREATED:20230323T105947Z
LAST-MODIFIED:20230323T105947Z
UID:2665-1646425800-1646425800@sueyingkoang.com
SUMMARY:Vivaldi : Gloria\, Magnificat & Stabat Mater
DESCRIPTION:
URL:https://sueyingkoang.com/de/event/vivaldi-gloria-magnificat-stabat-mater/
LOCATION:Église Saint-François de Lausanne\, Place Saint-François\, Lausanne\, 1003\, France
CATEGORIES:Konzertsaison 2021-2022
END:VEVENT
BEGIN:VEVENT
DTSTART;TZID=Europe/Paris:20220306T170000
DTEND;TZID=Europe/Paris:20220306T170000
DTSTAMP:20260425T143409
CREATED:20230323T110054Z
LAST-MODIFIED:20230323T110054Z
UID:2667-1646586000-1646586000@sueyingkoang.com
SUMMARY:Vivaldi : Gloria\, Magnificat & Stabat Mater
DESCRIPTION:
URL:https://sueyingkoang.com/de/event/vivaldi-gloria-magnificat-stabat-mater-2/
LOCATION:Église Saint-Martin – Vevey\, Boulevard de Saint-Martin 33\, Vevey\, 1033\, Suisse
CATEGORIES:Konzertsaison 2021-2022
END:VEVENT
BEGIN:VEVENT
DTSTART;TZID=Europe/Paris:20220311T200000
DTEND;TZID=Europe/Paris:20220311T200000
DTSTAMP:20260425T143409
CREATED:20230323T110308Z
LAST-MODIFIED:20230323T110308Z
UID:2669-1647028800-1647028800@sueyingkoang.com
SUMMARY:Haydn : Les Saisons - Ensemble Baroque du Léman
DESCRIPTION:
URL:https://sueyingkoang.com/de/event/haydn-les-saisons-ensemble-baroque-du-leman/
LOCATION:Victoria Hall\, Rue du Général-Dufour 14\, Genève\, 1204\, Suisse
CATEGORIES:Konzertsaison 2021-2022
END:VEVENT
BEGIN:VEVENT
DTSTART;TZID=Europe/Paris:20220313T080000
DTEND;TZID=Europe/Paris:20220313T170000
DTSTAMP:20260425T143409
CREATED:20230323T110457Z
LAST-MODIFIED:20230323T110457Z
UID:2671-1647158400-1647190800@sueyingkoang.com
SUMMARY:Haydn : Les Saisons - Ensemble Baroque du Léman
DESCRIPTION:
URL:https://sueyingkoang.com/de/event/haydn-les-saisons-ensemble-baroque-du-leman-2/
LOCATION:Temple de Coppet\, Grand' Rue 42\, Coppet\, 1296\, Suisse
CATEGORIES:Konzertsaison 2021-2022
END:VEVENT
BEGIN:VEVENT
DTSTART;TZID=Europe/Paris:20220318T170000
DTEND;TZID=Europe/Paris:20220318T170000
DTSTAMP:20260425T143409
CREATED:20230323T110944Z
LAST-MODIFIED:20230323T110944Z
UID:2674-1647622800-1647622800@sueyingkoang.com
SUMMARY:Rêveries - Cappella Mediterranea
DESCRIPTION:
URL:https://sueyingkoang.com/de/event/reveries-cappella-mediterranea/
LOCATION:Théâtre de Carouge\, Rue Ancienne 37 A\, Carouge\, 1227\, Suisse
CATEGORIES:Konzertsaison 2021-2022
END:VEVENT
BEGIN:VEVENT
DTSTART;TZID=Europe/Paris:20220330T200000
DTEND;TZID=Europe/Paris:20220330T200000
DTSTAMP:20260425T143409
CREATED:20230318T093321Z
LAST-MODIFIED:20230318T093321Z
UID:2530-1648670400-1648670400@sueyingkoang.com
SUMMARY:Bach : Passion selon Saint-Matthieu - Cappella Mediterranea
DESCRIPTION:
URL:https://sueyingkoang.com/de/event/bach-passion-selon-saint-matthieu-2/
LOCATION:La Seine Musicale\, Île Seguin\, Boulogne-Billancourt\, 92100\, France
CATEGORIES:Konzertsaison 2021-2022
END:VEVENT
END:VCALENDAR