BEGIN:VCALENDAR
VERSION:2.0
PRODID:-//Sue-Ying Koang - ECPv6.15.20//NONSGML v1.0//EN
CALSCALE:GREGORIAN
METHOD:PUBLISH
X-ORIGINAL-URL:https://sueyingkoang.com/de
X-WR-CALDESC:Veranstaltungen für Sue-Ying Koang
REFRESH-INTERVAL;VALUE=DURATION:PT1H
X-Robots-Tag:noindex
X-PUBLISHED-TTL:PT1H
BEGIN:VTIMEZONE
TZID:Europe/Paris
BEGIN:DAYLIGHT
TZOFFSETFROM:+0100
TZOFFSETTO:+0200
TZNAME:CEST
DTSTART:20240331T010000
END:DAYLIGHT
BEGIN:STANDARD
TZOFFSETFROM:+0200
TZOFFSETTO:+0100
TZNAME:CET
DTSTART:20241027T010000
END:STANDARD
BEGIN:DAYLIGHT
TZOFFSETFROM:+0100
TZOFFSETTO:+0200
TZNAME:CEST
DTSTART:20250330T010000
END:DAYLIGHT
BEGIN:STANDARD
TZOFFSETFROM:+0200
TZOFFSETTO:+0100
TZNAME:CET
DTSTART:20251026T010000
END:STANDARD
BEGIN:DAYLIGHT
TZOFFSETFROM:+0100
TZOFFSETTO:+0200
TZNAME:CEST
DTSTART:20260329T010000
END:DAYLIGHT
BEGIN:STANDARD
TZOFFSETFROM:+0200
TZOFFSETTO:+0100
TZNAME:CET
DTSTART:20261025T010000
END:STANDARD
END:VTIMEZONE
BEGIN:VEVENT
DTSTART;TZID=Europe/Paris:20251003T200000
DTEND;TZID=Europe/Paris:20251003T223000
DTSTAMP:20260422T122402
CREATED:20250627T145815Z
LAST-MODIFIED:20250627T150300Z
UID:3779-1759521600-1759530600@sueyingkoang.com
SUMMARY:Orchestre de la Région Réunion
DESCRIPTION:Werke von Rameau\, Vivaldi\, Zelenka\, Haendel\, Purcell \nOrchestre de la Région Réunion\nChœur de Chambre du Conservatoire à Rayonnement Régional de la Réunion\nLeitung: Benjamin Ingrao\nKonzertmeisterin: Sue-Ying Koang
URL:https://sueyingkoang.com/de/event/orr-2025-2/
LOCATION:Téat Champ Fleuri\, Sainte-Clotilde\, 97490\, Reunion
CATEGORIES:Konzertsaison 2025-2026
END:VEVENT
END:VCALENDAR