BEGIN:VCALENDAR
VERSION:2.0
PRODID:-//Sue-Ying Koang - ECPv6.15.20//NONSGML v1.0//EN
CALSCALE:GREGORIAN
METHOD:PUBLISH
X-WR-CALNAME:Sue-Ying Koang
X-ORIGINAL-URL:https://sueyingkoang.com/de
X-WR-CALDESC:Veranstaltungen für Sue-Ying Koang
REFRESH-INTERVAL;VALUE=DURATION:PT1H
X-Robots-Tag:noindex
X-PUBLISHED-TTL:PT1H
BEGIN:VTIMEZONE
TZID:Europe/Paris
BEGIN:DAYLIGHT
TZOFFSETFROM:+0100
TZOFFSETTO:+0200
TZNAME:CEST
DTSTART:20240331T010000
END:DAYLIGHT
BEGIN:STANDARD
TZOFFSETFROM:+0200
TZOFFSETTO:+0100
TZNAME:CET
DTSTART:20241027T010000
END:STANDARD
BEGIN:DAYLIGHT
TZOFFSETFROM:+0100
TZOFFSETTO:+0200
TZNAME:CEST
DTSTART:20250330T010000
END:DAYLIGHT
BEGIN:STANDARD
TZOFFSETFROM:+0200
TZOFFSETTO:+0100
TZNAME:CET
DTSTART:20251026T010000
END:STANDARD
BEGIN:DAYLIGHT
TZOFFSETFROM:+0100
TZOFFSETTO:+0200
TZNAME:CEST
DTSTART:20260329T010000
END:DAYLIGHT
BEGIN:STANDARD
TZOFFSETFROM:+0200
TZOFFSETTO:+0100
TZNAME:CET
DTSTART:20261025T010000
END:STANDARD
END:VTIMEZONE
BEGIN:VEVENT
DTSTART;TZID=Europe/Paris:20250914T170000
DTEND;TZID=Europe/Paris:20250914T183000
DTSTAMP:20260422T064254
CREATED:20250630T080443Z
LAST-MODIFIED:20250630T080443Z
UID:3812-1757869200-1757874600@sueyingkoang.com
SUMMARY:J.S. Bach & J.H. Roman für Violine solo
DESCRIPTION:Werke für Violine solo von J. S. Bach & J. H. Roman
URL:https://sueyingkoang.com/de/event/bach-roman-mulhouse-2025/
LOCATION:Église Sainte-Marie de Mulhouse\, 13 rue du Couvent\, Mulhouse\, 68100\, France
CATEGORIES:Konzertsaison 2025-2026
END:VEVENT
END:VCALENDAR