BEGIN:VCALENDAR
VERSION:2.0
PRODID:-//Sue-Ying Koang - ECPv6.15.20//NONSGML v1.0//EN
CALSCALE:GREGORIAN
METHOD:PUBLISH
X-WR-CALNAME:Sue-Ying Koang
X-ORIGINAL-URL:https://sueyingkoang.com/de
X-WR-CALDESC:Veranstaltungen für Sue-Ying Koang
REFRESH-INTERVAL;VALUE=DURATION:PT1H
X-Robots-Tag:noindex
X-PUBLISHED-TTL:PT1H
BEGIN:VTIMEZONE
TZID:Europe/Paris
BEGIN:DAYLIGHT
TZOFFSETFROM:+0100
TZOFFSETTO:+0200
TZNAME:CEST
DTSTART:20240331T010000
END:DAYLIGHT
BEGIN:STANDARD
TZOFFSETFROM:+0200
TZOFFSETTO:+0100
TZNAME:CET
DTSTART:20241027T010000
END:STANDARD
BEGIN:DAYLIGHT
TZOFFSETFROM:+0100
TZOFFSETTO:+0200
TZNAME:CEST
DTSTART:20250330T010000
END:DAYLIGHT
BEGIN:STANDARD
TZOFFSETFROM:+0200
TZOFFSETTO:+0100
TZNAME:CET
DTSTART:20251026T010000
END:STANDARD
BEGIN:DAYLIGHT
TZOFFSETFROM:+0100
TZOFFSETTO:+0200
TZNAME:CEST
DTSTART:20260329T010000
END:DAYLIGHT
BEGIN:STANDARD
TZOFFSETFROM:+0200
TZOFFSETTO:+0100
TZNAME:CET
DTSTART:20261025T010000
END:STANDARD
END:VTIMEZONE
BEGIN:VEVENT
DTSTART;TZID=Europe/Paris:20250530T193000
DTEND;TZID=Europe/Paris:20250530T210000
DTSTAMP:20260421T045503
CREATED:20241211T142305Z
LAST-MODIFIED:20241211T142305Z
UID:3637-1748633400-1748638800@sueyingkoang.com
SUMMARY:La Chapelle Saint-Marc: G. F. Haendel - Orgelkonzerte
DESCRIPTION:Les Concerts-Causeries de Chailly \nLa Chapelle Saint-Marc \nVincent Bernhardt\, Orgel & Leitung
URL:https://sueyingkoang.com/de/event/csm-haendel-ccc-2025/
LOCATION:Temple de Chailly\, Avenue du Temple 11\, Lausanne\, VD\, 1012\, Schweiz
CATEGORIES:Konzertsaison 2024-2025
END:VEVENT
END:VCALENDAR