BEGIN:VCALENDAR
VERSION:2.0
PRODID:-//Sue-Ying Koang - ECPv6.15.20//NONSGML v1.0//EN
CALSCALE:GREGORIAN
METHOD:PUBLISH
X-ORIGINAL-URL:https://sueyingkoang.com/de
X-WR-CALDESC:Veranstaltungen für Sue-Ying Koang
REFRESH-INTERVAL;VALUE=DURATION:PT1H
X-Robots-Tag:noindex
X-PUBLISHED-TTL:PT1H
BEGIN:VTIMEZONE
TZID:Europe/Paris
BEGIN:DAYLIGHT
TZOFFSETFROM:+0100
TZOFFSETTO:+0200
TZNAME:CEST
DTSTART:20240331T010000
END:DAYLIGHT
BEGIN:STANDARD
TZOFFSETFROM:+0200
TZOFFSETTO:+0100
TZNAME:CET
DTSTART:20241027T010000
END:STANDARD
BEGIN:DAYLIGHT
TZOFFSETFROM:+0100
TZOFFSETTO:+0200
TZNAME:CEST
DTSTART:20250330T010000
END:DAYLIGHT
BEGIN:STANDARD
TZOFFSETFROM:+0200
TZOFFSETTO:+0100
TZNAME:CET
DTSTART:20251026T010000
END:STANDARD
BEGIN:DAYLIGHT
TZOFFSETFROM:+0100
TZOFFSETTO:+0200
TZNAME:CEST
DTSTART:20260329T010000
END:DAYLIGHT
BEGIN:STANDARD
TZOFFSETFROM:+0200
TZOFFSETTO:+0100
TZNAME:CET
DTSTART:20261025T010000
END:STANDARD
END:VTIMEZONE
BEGIN:VEVENT
DTSTART;TZID=Europe/Paris:20250511T170000
DTEND;TZID=Europe/Paris:20250511T170000
DTSTAMP:20260420T133307
CREATED:20250307T171855Z
LAST-MODIFIED:20250307T171855Z
UID:3674-1746982800-1746982800@sueyingkoang.com
SUMMARY:Kammermusik
DESCRIPTION:Werke von Strozzi\, Purcell\, Haendel \nElodie Favre\, Sopran\nSue-Ying Koang\, Violine\nEstelle Monnat\, Cello\nGustavo Reyna\, Theorbe
URL:https://sueyingkoang.com/de/event/atempy-2/
LOCATION:Église de Champagne\, Rue de Saint-Maurice 10\, Champagne\, VD\, 1424\, Switzerland
CATEGORIES:Konzertsaison 2024-2025
END:VEVENT
END:VCALENDAR